BEGIN:VCALENDAR
VERSION:2.0
PRODID:-//Rusted Rail Golf Club - ECPv6.15.20//NONSGML v1.0//EN
CALSCALE:GREGORIAN
METHOD:PUBLISH
X-WR-CALNAME:Rusted Rail Golf Club
X-ORIGINAL-URL:https://rustedrailgolf.com
X-WR-CALDESC:Events for Rusted Rail Golf Club
REFRESH-INTERVAL;VALUE=DURATION:PT1H
X-Robots-Tag:noindex
X-PUBLISHED-TTL:PT1H
BEGIN:VTIMEZONE
TZID:America/Toronto
BEGIN:DAYLIGHT
TZOFFSETFROM:-0500
TZOFFSETTO:-0400
TZNAME:EDT
DTSTART:20220313T070000
END:DAYLIGHT
BEGIN:STANDARD
TZOFFSETFROM:-0400
TZOFFSETTO:-0500
TZNAME:EST
DTSTART:20221106T060000
END:STANDARD
BEGIN:DAYLIGHT
TZOFFSETFROM:-0500
TZOFFSETTO:-0400
TZNAME:EDT
DTSTART:20230312T070000
END:DAYLIGHT
BEGIN:STANDARD
TZOFFSETFROM:-0400
TZOFFSETTO:-0500
TZNAME:EST
DTSTART:20231105T060000
END:STANDARD
BEGIN:DAYLIGHT
TZOFFSETFROM:-0500
TZOFFSETTO:-0400
TZNAME:EDT
DTSTART:20240310T070000
END:DAYLIGHT
BEGIN:STANDARD
TZOFFSETFROM:-0400
TZOFFSETTO:-0500
TZNAME:EST
DTSTART:20241103T060000
END:STANDARD
END:VTIMEZONE
BEGIN:VEVENT
DTSTART;VALUE=DATE:20230720
DTEND;VALUE=DATE:20230721
DTSTAMP:20260422T003855
CREATED:20230720T190120Z
LAST-MODIFIED:20230720T190120Z
UID:10005401-1689811200-1689897599@rustedrailgolf.com
SUMMARY:Ladies League
DESCRIPTION:
URL:https://rustedrailgolf.com/event/ladies-league-11/
LOCATION:Rusted Rail Golf
END:VEVENT
BEGIN:VEVENT
DTSTART;TZID=America/Toronto:20230720T180000
DTEND;TZID=America/Toronto:20230720T210000
DTSTAMP:20260422T003855
CREATED:20230720T190255Z
LAST-MODIFIED:20230720T190255Z
UID:10005403-1689876000-1689886800@rustedrailgolf.com
SUMMARY:White Plate Special
DESCRIPTION:
URL:https://rustedrailgolf.com/event/white-plate-special/2023-07-20/
LOCATION:Rusted Rail Golf
END:VEVENT
BEGIN:VEVENT
DTSTART;TZID=America/Toronto:20230720T190000
DTEND;TZID=America/Toronto:20230720T220000
DTSTAMP:20260422T003855
CREATED:20230720T190342Z
LAST-MODIFIED:20230720T190342Z
UID:10005407-1689879600-1689890400@rustedrailgolf.com
SUMMARY:Tyler Strokes
DESCRIPTION:
URL:https://rustedrailgolf.com/event/tyler-strokes/
LOCATION:Rusted Rail Golf
END:VEVENT
END:VCALENDAR