BEGIN:VCALENDAR
VERSION:2.0
PRODID:-//Rusted Rail Golf Club - ECPv6.15.20//NONSGML v1.0//EN
CALSCALE:GREGORIAN
METHOD:PUBLISH
X-ORIGINAL-URL:https://rustedrailgolf.com
X-WR-CALDESC:Events for Rusted Rail Golf Club
REFRESH-INTERVAL;VALUE=DURATION:PT1H
X-Robots-Tag:noindex
X-PUBLISHED-TTL:PT1H
BEGIN:VTIMEZONE
TZID:America/Toronto
BEGIN:DAYLIGHT
TZOFFSETFROM:-0500
TZOFFSETTO:-0400
TZNAME:EDT
DTSTART:20220313T070000
END:DAYLIGHT
BEGIN:STANDARD
TZOFFSETFROM:-0400
TZOFFSETTO:-0500
TZNAME:EST
DTSTART:20221106T060000
END:STANDARD
BEGIN:DAYLIGHT
TZOFFSETFROM:-0500
TZOFFSETTO:-0400
TZNAME:EDT
DTSTART:20230312T070000
END:DAYLIGHT
BEGIN:STANDARD
TZOFFSETFROM:-0400
TZOFFSETTO:-0500
TZNAME:EST
DTSTART:20231105T060000
END:STANDARD
BEGIN:DAYLIGHT
TZOFFSETFROM:-0500
TZOFFSETTO:-0400
TZNAME:EDT
DTSTART:20240310T070000
END:DAYLIGHT
BEGIN:STANDARD
TZOFFSETFROM:-0400
TZOFFSETTO:-0500
TZNAME:EST
DTSTART:20241103T060000
END:STANDARD
END:VTIMEZONE
BEGIN:VEVENT
DTSTART;TZID=America/Toronto:20230824T180000
DTEND;TZID=America/Toronto:20230825T210000
DTSTAMP:20260421T225446
CREATED:20230823T163939Z
LAST-MODIFIED:20230823T163939Z
UID:10005444-1692900000-1692997200@rustedrailgolf.com
SUMMARY:White Plate Special
DESCRIPTION:
URL:https://rustedrailgolf.com/event/white-plate-special-4/
LOCATION:Rusted Rail Golf
END:VEVENT
BEGIN:VEVENT
DTSTART;TZID=America/Toronto:20230825T190000
DTEND;TZID=America/Toronto:20230825T220000
DTSTAMP:20260421T225446
CREATED:20230720T190536Z
LAST-MODIFIED:20230720T190536Z
UID:10005413-1692990000-1693000800@rustedrailgolf.com
SUMMARY:Karaoke
DESCRIPTION:
URL:https://rustedrailgolf.com/event/karaoke-3/2023-08-25/
LOCATION:Rusted Rail Golf
CATEGORIES:News
END:VEVENT
END:VCALENDAR