BEGIN:VCALENDAR
VERSION:2.0
PRODID:-//Rusted Rail Golf Club - ECPv6.15.20//NONSGML v1.0//EN
CALSCALE:GREGORIAN
METHOD:PUBLISH
X-ORIGINAL-URL:https://rustedrailgolf.com
X-WR-CALDESC:Events for Rusted Rail Golf Club
REFRESH-INTERVAL;VALUE=DURATION:PT1H
X-Robots-Tag:noindex
X-PUBLISHED-TTL:PT1H
BEGIN:VTIMEZONE
TZID:America/Toronto
BEGIN:DAYLIGHT
TZOFFSETFROM:-0500
TZOFFSETTO:-0400
TZNAME:EDT
DTSTART:20220313T070000
END:DAYLIGHT
BEGIN:STANDARD
TZOFFSETFROM:-0400
TZOFFSETTO:-0500
TZNAME:EST
DTSTART:20221106T060000
END:STANDARD
BEGIN:DAYLIGHT
TZOFFSETFROM:-0500
TZOFFSETTO:-0400
TZNAME:EDT
DTSTART:20230312T070000
END:DAYLIGHT
BEGIN:STANDARD
TZOFFSETFROM:-0400
TZOFFSETTO:-0500
TZNAME:EST
DTSTART:20231105T060000
END:STANDARD
BEGIN:DAYLIGHT
TZOFFSETFROM:-0500
TZOFFSETTO:-0400
TZNAME:EDT
DTSTART:20240310T070000
END:DAYLIGHT
BEGIN:STANDARD
TZOFFSETFROM:-0400
TZOFFSETTO:-0500
TZNAME:EST
DTSTART:20241103T060000
END:STANDARD
END:VTIMEZONE
BEGIN:VEVENT
DTSTART;TZID=America/Toronto:20230831T170000
DTEND;TZID=America/Toronto:20230831T210000
DTSTAMP:20260421T213036
CREATED:20230823T163640Z
LAST-MODIFIED:20230823T163640Z
UID:10005443-1693501200-1693515600@rustedrailgolf.com
SUMMARY:Couples Golf
DESCRIPTION:
URL:https://rustedrailgolf.com/event/couples-golf-16/
LOCATION:Rusted Rail Golf
CATEGORIES:News
END:VEVENT
BEGIN:VEVENT
DTSTART;TZID=America/Toronto:20230831T180000
DTEND;TZID=America/Toronto:20230831T210000
DTSTAMP:20260421T213036
CREATED:20230830T152644Z
LAST-MODIFIED:20230830T152644Z
UID:10005447-1693504800-1693515600@rustedrailgolf.com
SUMMARY:White Plate Special
DESCRIPTION:
URL:https://rustedrailgolf.com/event/white-plate-special-5/
LOCATION:Rusted Rail Golf
CATEGORIES:News
END:VEVENT
BEGIN:VEVENT
DTSTART;TZID=America/Toronto:20230831T190000
DTEND;TZID=America/Toronto:20230831T220000
DTSTAMP:20260421T213036
CREATED:20230830T152820Z
LAST-MODIFIED:20230830T152820Z
UID:10005448-1693508400-1693519200@rustedrailgolf.com
SUMMARY:Mile Post 595
DESCRIPTION:
URL:https://rustedrailgolf.com/event/mile-post-595/
LOCATION:Rusted Rail Golf
CATEGORIES:News
END:VEVENT
END:VCALENDAR