BEGIN:VCALENDAR
VERSION:2.0
PRODID:-//Rusted Rail Golf Club - ECPv6.15.20//NONSGML v1.0//EN
CALSCALE:GREGORIAN
METHOD:PUBLISH
X-WR-CALNAME:Rusted Rail Golf Club
X-ORIGINAL-URL:https://rustedrailgolf.com
X-WR-CALDESC:Events for Rusted Rail Golf Club
REFRESH-INTERVAL;VALUE=DURATION:PT1H
X-Robots-Tag:noindex
X-PUBLISHED-TTL:PT1H
BEGIN:VTIMEZONE
TZID:America/Toronto
BEGIN:DAYLIGHT
TZOFFSETFROM:-0500
TZOFFSETTO:-0400
TZNAME:EDT
DTSTART:20230312T070000
END:DAYLIGHT
BEGIN:STANDARD
TZOFFSETFROM:-0400
TZOFFSETTO:-0500
TZNAME:EST
DTSTART:20231105T060000
END:STANDARD
BEGIN:DAYLIGHT
TZOFFSETFROM:-0500
TZOFFSETTO:-0400
TZNAME:EDT
DTSTART:20240310T070000
END:DAYLIGHT
BEGIN:STANDARD
TZOFFSETFROM:-0400
TZOFFSETTO:-0500
TZNAME:EST
DTSTART:20241103T060000
END:STANDARD
BEGIN:DAYLIGHT
TZOFFSETFROM:-0500
TZOFFSETTO:-0400
TZNAME:EDT
DTSTART:20250309T070000
END:DAYLIGHT
BEGIN:STANDARD
TZOFFSETFROM:-0400
TZOFFSETTO:-0500
TZNAME:EST
DTSTART:20251102T060000
END:STANDARD
END:VTIMEZONE
BEGIN:VEVENT
DTSTART;VALUE=DATE:20240210
DTEND;VALUE=DATE:20240211
DTSTAMP:20260421T133342
CREATED:20240119T000132Z
LAST-MODIFIED:20240119T000404Z
UID:10005454-1707523200-1707609599@rustedrailgolf.com
SUMMARY:Couple’s Tournament + Valentine’s Dinner
DESCRIPTION:We are thrilled to announce that on February 10th\, we will be hosting the highly anticipated 2024 Couple’s Tournament! This exclusive event will be followed by an exquisite dinner accompanied by live music and exciting prizes for the winners of the day’s tournament. Don’t miss out on this incredible opportunity to create lasting memories with your significant other. Please note that spots for this event are limited\, so we strongly encourage you to secure your place by signing up promptly. To ensure utmost convenience\, we have introduced both member and non-member options for registration.
URL:https://rustedrailgolf.com/event/couples-tournament-valentines-dinner/
LOCATION:Rusted Rail Golf
END:VEVENT
END:VCALENDAR