BEGIN:VCALENDAR
VERSION:2.0
PRODID:-//Rusted Rail Golf Club - ECPv6.15.20//NONSGML v1.0//EN
CALSCALE:GREGORIAN
METHOD:PUBLISH
X-WR-CALNAME:Rusted Rail Golf Club
X-ORIGINAL-URL:https://rustedrailgolf.com
X-WR-CALDESC:Events for Rusted Rail Golf Club
REFRESH-INTERVAL;VALUE=DURATION:PT1H
X-Robots-Tag:noindex
X-PUBLISHED-TTL:PT1H
BEGIN:VTIMEZONE
TZID:America/Toronto
BEGIN:DAYLIGHT
TZOFFSETFROM:-0500
TZOFFSETTO:-0400
TZNAME:EDT
DTSTART:20230312T070000
END:DAYLIGHT
BEGIN:STANDARD
TZOFFSETFROM:-0400
TZOFFSETTO:-0500
TZNAME:EST
DTSTART:20231105T060000
END:STANDARD
BEGIN:DAYLIGHT
TZOFFSETFROM:-0500
TZOFFSETTO:-0400
TZNAME:EDT
DTSTART:20240310T070000
END:DAYLIGHT
BEGIN:STANDARD
TZOFFSETFROM:-0400
TZOFFSETTO:-0500
TZNAME:EST
DTSTART:20241103T060000
END:STANDARD
BEGIN:DAYLIGHT
TZOFFSETFROM:-0500
TZOFFSETTO:-0400
TZNAME:EDT
DTSTART:20250309T070000
END:DAYLIGHT
BEGIN:STANDARD
TZOFFSETFROM:-0400
TZOFFSETTO:-0500
TZNAME:EST
DTSTART:20251102T060000
END:STANDARD
END:VTIMEZONE
BEGIN:VEVENT
DTSTART;VALUE=DATE:20240301
DTEND;VALUE=DATE:20240318
DTSTAMP:20260421T120421
CREATED:20240228T183524Z
LAST-MODIFIED:20240228T183524Z
UID:10005455-1709251200-1710719999@rustedrailgolf.com
SUMMARY:Pot O' Golf Discount Sale Begins!
DESCRIPTION:Feelin’ lucky?
URL:https://rustedrailgolf.com/event/pot-o-golf-discount-sale-begins/
LOCATION:Rusted Rail Golf
ATTACH;FMTTYPE=image/jpeg:https://rustedrailgolf.com/wp-content/uploads/2024/02/Sale.jpg
ORGANIZER;CN="AmyB":MAILTO:amy@rustedrailgolf.com
END:VEVENT
BEGIN:VEVENT
DTSTART;TZID=America/Toronto:20240307T190000
DTEND;TZID=America/Toronto:20240307T220000
DTSTAMP:20260421T120421
CREATED:20240228T191921Z
LAST-MODIFIED:20240228T194227Z
UID:10005457-1709838000-1709848800@rustedrailgolf.com
SUMMARY:#ThirstyThursday Feat. Tyler Stokes!
DESCRIPTION:Whether you’re thirsty for drinks or thirsty for great live music\, we’ve got ya covered! Live Music with Tyler Stokes from 7p-10p | ALL DAY Happy Hour | $3.50 beers | $5.50 wells
URL:https://rustedrailgolf.com/event/thirstythursday-feat-tyler-stokes/
LOCATION:Rusted Rail Golf
ATTACH;FMTTYPE=image/jpeg:https://rustedrailgolf.com/wp-content/uploads/2024/02/TT-feat-image.jpg
ORGANIZER;CN="AmyB":MAILTO:amy@rustedrailgolf.com
END:VEVENT
END:VCALENDAR