BEGIN:VCALENDAR
VERSION:2.0
PRODID:-//Rusted Rail Golf Club - ECPv6.15.20//NONSGML v1.0//EN
CALSCALE:GREGORIAN
METHOD:PUBLISH
X-ORIGINAL-URL:https://rustedrailgolf.com
X-WR-CALDESC:Events for Rusted Rail Golf Club
REFRESH-INTERVAL;VALUE=DURATION:PT1H
X-Robots-Tag:noindex
X-PUBLISHED-TTL:PT1H
BEGIN:VTIMEZONE
TZID:America/Toronto
BEGIN:DAYLIGHT
TZOFFSETFROM:-0500
TZOFFSETTO:-0400
TZNAME:EDT
DTSTART:20230312T070000
END:DAYLIGHT
BEGIN:STANDARD
TZOFFSETFROM:-0400
TZOFFSETTO:-0500
TZNAME:EST
DTSTART:20231105T060000
END:STANDARD
BEGIN:DAYLIGHT
TZOFFSETFROM:-0500
TZOFFSETTO:-0400
TZNAME:EDT
DTSTART:20240310T070000
END:DAYLIGHT
BEGIN:STANDARD
TZOFFSETFROM:-0400
TZOFFSETTO:-0500
TZNAME:EST
DTSTART:20241103T060000
END:STANDARD
BEGIN:DAYLIGHT
TZOFFSETFROM:-0500
TZOFFSETTO:-0400
TZNAME:EDT
DTSTART:20250309T070000
END:DAYLIGHT
BEGIN:STANDARD
TZOFFSETFROM:-0400
TZOFFSETTO:-0500
TZNAME:EST
DTSTART:20251102T060000
END:STANDARD
END:VTIMEZONE
BEGIN:VEVENT
DTSTART;TZID=America/Toronto:20240322T190000
DTEND;TZID=America/Toronto:20240322T220000
DTSTAMP:20260421T114708
CREATED:20240228T204933Z
LAST-MODIFIED:20240228T204933Z
UID:10005463-1711134000-1711144800@rustedrailgolf.com
SUMMARY:Karaoke Feat. DJ Ducado Vega!
DESCRIPTION:DJ Ducado Vega will be hosting Karaoke as part of Rusted Rail’s #FeelGoodFriday! $3.50 beers & $5.50 wells from 7p-10p. White Plate Specials served 6p-9p and Late Nite Menu served 9p-10p!
URL:https://rustedrailgolf.com/event/karaoke-feat-dj-ducado-vega-4/
LOCATION:Rusted Rail Golf
ATTACH;FMTTYPE=image/png:https://rustedrailgolf.com/wp-content/uploads/2024/02/FGF-feat-image.png
END:VEVENT
END:VCALENDAR