BEGIN:VCALENDAR
VERSION:2.0
PRODID:-//Rusted Rail Golf Club - ECPv6.15.20//NONSGML v1.0//EN
CALSCALE:GREGORIAN
METHOD:PUBLISH
X-WR-CALNAME:Rusted Rail Golf Club
X-ORIGINAL-URL:https://rustedrailgolf.com
X-WR-CALDESC:Events for Rusted Rail Golf Club
REFRESH-INTERVAL;VALUE=DURATION:PT1H
X-Robots-Tag:noindex
X-PUBLISHED-TTL:PT1H
BEGIN:VTIMEZONE
TZID:America/Toronto
BEGIN:DAYLIGHT
TZOFFSETFROM:-0500
TZOFFSETTO:-0400
TZNAME:EDT
DTSTART:20230312T070000
END:DAYLIGHT
BEGIN:STANDARD
TZOFFSETFROM:-0400
TZOFFSETTO:-0500
TZNAME:EST
DTSTART:20231105T060000
END:STANDARD
BEGIN:DAYLIGHT
TZOFFSETFROM:-0500
TZOFFSETTO:-0400
TZNAME:EDT
DTSTART:20240310T070000
END:DAYLIGHT
BEGIN:STANDARD
TZOFFSETFROM:-0400
TZOFFSETTO:-0500
TZNAME:EST
DTSTART:20241103T060000
END:STANDARD
BEGIN:DAYLIGHT
TZOFFSETFROM:-0500
TZOFFSETTO:-0400
TZNAME:EDT
DTSTART:20250309T070000
END:DAYLIGHT
BEGIN:STANDARD
TZOFFSETFROM:-0400
TZOFFSETTO:-0500
TZNAME:EST
DTSTART:20251102T060000
END:STANDARD
END:VTIMEZONE
BEGIN:VEVENT
DTSTART;TZID=America/Toronto:20240328T190000
DTEND;TZID=America/Toronto:20240328T220000
DTSTAMP:20260421T115325
CREATED:20240228T205704Z
LAST-MODIFIED:20240228T210018Z
UID:10005470-1711652400-1711663200@rustedrailgolf.com
SUMMARY:#ThirstyThursday Feat. Brian Lynn Jones!
DESCRIPTION:Whether you’re thirsty for drinks or thirsty for great live music\, we’ve got ya covered! Live Music with Tyler Stokes from 7p-10p | ALL DAY Happy Hour | $3.50 beers | $5.50 wells
URL:https://rustedrailgolf.com/event/thirstythursday-feat-brian-lynn-jones/
LOCATION:Rusted Rail Golf
ATTACH;FMTTYPE=image/jpeg:https://rustedrailgolf.com/wp-content/uploads/2024/02/TT-feat-image.jpg
END:VEVENT
BEGIN:VEVENT
DTSTART;TZID=America/Toronto:20240328T200000
DTEND;TZID=America/Toronto:20240328T210000
DTSTAMP:20260421T115325
CREATED:20240228T205545Z
LAST-MODIFIED:20240228T205545Z
UID:10005469-1711656000-1711659600@rustedrailgolf.com
SUMMARY:21+ Egg Hunt!
DESCRIPTION:Get ready for the most egg-citing Easter hunt of the year!  Join us for a 21+ twist on the classic egg hunt – where the eggs are hidden\, and the fun is unlimited!  Hop around\, sip on some adult beverages\, and hunt for eggs like never before! \n 
URL:https://rustedrailgolf.com/event/21-egg-hunt/
LOCATION:Rusted Rail Golf
END:VEVENT
END:VCALENDAR