BEGIN:VCALENDAR
VERSION:2.0
PRODID:-//Rusted Rail Golf Club - ECPv6.15.20//NONSGML v1.0//EN
CALSCALE:GREGORIAN
METHOD:PUBLISH
X-WR-CALNAME:Rusted Rail Golf Club
X-ORIGINAL-URL:https://rustedrailgolf.com
X-WR-CALDESC:Events for Rusted Rail Golf Club
REFRESH-INTERVAL;VALUE=DURATION:PT1H
X-Robots-Tag:noindex
X-PUBLISHED-TTL:PT1H
BEGIN:VTIMEZONE
TZID:America/Toronto
BEGIN:DAYLIGHT
TZOFFSETFROM:-0500
TZOFFSETTO:-0400
TZNAME:EDT
DTSTART:20230312T070000
END:DAYLIGHT
BEGIN:STANDARD
TZOFFSETFROM:-0400
TZOFFSETTO:-0500
TZNAME:EST
DTSTART:20231105T060000
END:STANDARD
BEGIN:DAYLIGHT
TZOFFSETFROM:-0500
TZOFFSETTO:-0400
TZNAME:EDT
DTSTART:20240310T070000
END:DAYLIGHT
BEGIN:STANDARD
TZOFFSETFROM:-0400
TZOFFSETTO:-0500
TZNAME:EST
DTSTART:20241103T060000
END:STANDARD
BEGIN:DAYLIGHT
TZOFFSETFROM:-0500
TZOFFSETTO:-0400
TZNAME:EDT
DTSTART:20250309T070000
END:DAYLIGHT
BEGIN:STANDARD
TZOFFSETFROM:-0400
TZOFFSETTO:-0500
TZNAME:EST
DTSTART:20251102T060000
END:STANDARD
END:VTIMEZONE
BEGIN:VEVENT
DTSTART;TZID=America/Toronto:20240330T100000
DTEND;TZID=America/Toronto:20240330T150000
DTSTAMP:20260421T115501
CREATED:20240228T210517Z
LAST-MODIFIED:20240228T210517Z
UID:10005479-1711792800-1711810800@rustedrailgolf.com
SUMMARY:Annual Easter Egg-stavaganza!
DESCRIPTION:It’s that time of year again! The egg-citement is building as we gear up for our Easter Egg-stravaganza at the Rusted Rail! Don’t miss out on the fun filled day that we have for you! \nExplore our craft fair featuring talented local vendors! It’s a perfect opportunity to support small businesses and discover unique treasures while soaking up the vibrant community atmosphere. \nEnjoy music and delicious food throughout the event! Let the melodies and flavors add to the festive ambiance as you mingle with friends and family! We are now accepting donations of plastic\, candy-filled Easter Eggs in our Pro Shop for our FREE community Egg Hunt! \nThis is a FREE event and open to the public! Mark your calendars and spread the word  – we can’t wait to see you at the Rusted Rail for an unforgettable Easter celebration!
URL:https://rustedrailgolf.com/event/annual-easter-egg-stavaganza/
LOCATION:Rusted Rail Golf
END:VEVENT
END:VCALENDAR