BEGIN:VCALENDAR
VERSION:2.0
PRODID:-//Rusted Rail Golf Club - ECPv6.15.20//NONSGML v1.0//EN
CALSCALE:GREGORIAN
METHOD:PUBLISH
X-ORIGINAL-URL:https://rustedrailgolf.com
X-WR-CALDESC:Events for Rusted Rail Golf Club
REFRESH-INTERVAL;VALUE=DURATION:PT1H
X-Robots-Tag:noindex
X-PUBLISHED-TTL:PT1H
BEGIN:VTIMEZONE
TZID:America/Toronto
BEGIN:DAYLIGHT
TZOFFSETFROM:-0500
TZOFFSETTO:-0400
TZNAME:EDT
DTSTART:20230312T070000
END:DAYLIGHT
BEGIN:STANDARD
TZOFFSETFROM:-0400
TZOFFSETTO:-0500
TZNAME:EST
DTSTART:20231105T060000
END:STANDARD
BEGIN:DAYLIGHT
TZOFFSETFROM:-0500
TZOFFSETTO:-0400
TZNAME:EDT
DTSTART:20240310T070000
END:DAYLIGHT
BEGIN:STANDARD
TZOFFSETFROM:-0400
TZOFFSETTO:-0500
TZNAME:EST
DTSTART:20241103T060000
END:STANDARD
BEGIN:DAYLIGHT
TZOFFSETFROM:-0500
TZOFFSETTO:-0400
TZNAME:EDT
DTSTART:20250309T070000
END:DAYLIGHT
BEGIN:STANDARD
TZOFFSETFROM:-0400
TZOFFSETTO:-0500
TZNAME:EST
DTSTART:20251102T060000
END:STANDARD
END:VTIMEZONE
BEGIN:VEVENT
DTSTART;TZID=America/Toronto:20240411T170000
DTEND;TZID=America/Toronto:20240411T190000
DTSTAMP:20260421T104223
CREATED:20240330T192430Z
LAST-MODIFIED:20240330T192712Z
UID:10005482-1712854800-1712862000@rustedrailgolf.com
SUMMARY:Couple's Golf
DESCRIPTION:Shotgun @ 5pm | Couples blind draw\nNon Members : $25 Green Fee (includes cart) + $5 cash entry\nMembers: $5 cash entry\nPOC: Penny Colley | penny@rustedrailgolf.com
URL:https://rustedrailgolf.com/event/couples-golf-17/
LOCATION:Rusted Rail Golf
ATTACH;FMTTYPE=image/png:https://rustedrailgolf.com/wp-content/uploads/2024/03/couples.png
END:VEVENT
BEGIN:VEVENT
DTSTART;TZID=America/Toronto:20240411T190000
DTEND;TZID=America/Toronto:20240411T220000
DTSTAMP:20260421T104223
CREATED:20240228T205704Z
LAST-MODIFIED:20240330T193137Z
UID:10005472-1712862000-1712872800@rustedrailgolf.com
SUMMARY:#ThirstyThursday Feat. Shelby Ballinger!
DESCRIPTION:Whether you’re thirsty for drinks or thirsty for great live music\, we’ve got ya covered! Live Music with Shelby Ballinger from 7p-10p | ALL DAY Happy Hour | $3.50 beers | $5.50 wells
URL:https://rustedrailgolf.com/event/thirstythursday-feat-shelby-ballinger/
LOCATION:Rusted Rail Golf
ATTACH;FMTTYPE=image/jpeg:https://rustedrailgolf.com/wp-content/uploads/2024/02/TT-feat-image.jpg
END:VEVENT
END:VCALENDAR