BEGIN:VCALENDAR
VERSION:2.0
PRODID:-//Rusted Rail Golf Club - ECPv6.15.20//NONSGML v1.0//EN
CALSCALE:GREGORIAN
METHOD:PUBLISH
X-ORIGINAL-URL:https://rustedrailgolf.com
X-WR-CALDESC:Events for Rusted Rail Golf Club
REFRESH-INTERVAL;VALUE=DURATION:PT1H
X-Robots-Tag:noindex
X-PUBLISHED-TTL:PT1H
BEGIN:VTIMEZONE
TZID:America/Toronto
BEGIN:DAYLIGHT
TZOFFSETFROM:-0500
TZOFFSETTO:-0400
TZNAME:EDT
DTSTART:20230312T070000
END:DAYLIGHT
BEGIN:STANDARD
TZOFFSETFROM:-0400
TZOFFSETTO:-0500
TZNAME:EST
DTSTART:20231105T060000
END:STANDARD
BEGIN:DAYLIGHT
TZOFFSETFROM:-0500
TZOFFSETTO:-0400
TZNAME:EDT
DTSTART:20240310T070000
END:DAYLIGHT
BEGIN:STANDARD
TZOFFSETFROM:-0400
TZOFFSETTO:-0500
TZNAME:EST
DTSTART:20241103T060000
END:STANDARD
BEGIN:DAYLIGHT
TZOFFSETFROM:-0500
TZOFFSETTO:-0400
TZNAME:EDT
DTSTART:20250309T070000
END:DAYLIGHT
BEGIN:STANDARD
TZOFFSETFROM:-0400
TZOFFSETTO:-0500
TZNAME:EST
DTSTART:20251102T060000
END:STANDARD
END:VTIMEZONE
BEGIN:VEVENT
DTSTART;TZID=America/Toronto:20240530T190000
DTEND;TZID=America/Toronto:20240530T220000
DTSTAMP:20260421T071835
CREATED:20240504T162108Z
LAST-MODIFIED:20240504T164007Z
UID:10005494-1717095600-1717106400@rustedrailgolf.com
SUMMARY:#ThirstyThursday Feat. Todd Freeman & Bullet Proof!
DESCRIPTION:Whether you’re thirsty for drinks or thirsty for great live music\, we’ve got ya covered!\nLive Music with Todd Freeman & Bullet Proof from 7p-10p | ALL DAY Happy Hour | $3.50 beers | $5.50 wells\nWhite Plate Special: Loaded Baked Potato | BBQ Brisket or Chicken | served 6pm – 9m\nLate Nite Menu served 9pm – 10pm
URL:https://rustedrailgolf.com/event/thirstythursday-feat-dale-riley-2024-05-30/
LOCATION:Rusted Rail Golf
ATTACH;FMTTYPE=image/jpeg:https://rustedrailgolf.com/wp-content/uploads/2024/02/TT-feat-image.jpg
END:VEVENT
END:VCALENDAR