BEGIN:VCALENDAR
VERSION:2.0
PRODID:-//Rusted Rail Golf Club - ECPv6.15.20//NONSGML v1.0//EN
CALSCALE:GREGORIAN
METHOD:PUBLISH
X-WR-CALNAME:Rusted Rail Golf Club
X-ORIGINAL-URL:https://rustedrailgolf.com
X-WR-CALDESC:Events for Rusted Rail Golf Club
REFRESH-INTERVAL;VALUE=DURATION:PT1H
X-Robots-Tag:noindex
X-PUBLISHED-TTL:PT1H
BEGIN:VTIMEZONE
TZID:America/Toronto
BEGIN:DAYLIGHT
TZOFFSETFROM:-0500
TZOFFSETTO:-0400
TZNAME:EDT
DTSTART:20230312T070000
END:DAYLIGHT
BEGIN:STANDARD
TZOFFSETFROM:-0400
TZOFFSETTO:-0500
TZNAME:EST
DTSTART:20231105T060000
END:STANDARD
BEGIN:DAYLIGHT
TZOFFSETFROM:-0500
TZOFFSETTO:-0400
TZNAME:EDT
DTSTART:20240310T070000
END:DAYLIGHT
BEGIN:STANDARD
TZOFFSETFROM:-0400
TZOFFSETTO:-0500
TZNAME:EST
DTSTART:20241103T060000
END:STANDARD
BEGIN:DAYLIGHT
TZOFFSETFROM:-0500
TZOFFSETTO:-0400
TZNAME:EDT
DTSTART:20250309T070000
END:DAYLIGHT
BEGIN:STANDARD
TZOFFSETFROM:-0400
TZOFFSETTO:-0500
TZNAME:EST
DTSTART:20251102T060000
END:STANDARD
END:VTIMEZONE
BEGIN:VEVENT
DTSTART;TZID=America/Toronto:20240613T103000
DTEND;TZID=America/Toronto:20240613T130000
DTSTAMP:20260420T085138
CREATED:20240607T161649Z
LAST-MODIFIED:20240901T230103Z
UID:10005619-1718274600-1718283600@rustedrailgolf.com
SUMMARY:Skins
DESCRIPTION:
URL:https://rustedrailgolf.com/event/skins/2024-06-13/
LOCATION:Rusted Rail Golf
CATEGORIES:Skins/Scrambles
END:VEVENT
BEGIN:VEVENT
DTSTART;TZID=America/Toronto:20240613T173000
DTEND;TZID=America/Toronto:20240613T190000
DTSTAMP:20260420T085138
CREATED:20240504T162108Z
LAST-MODIFIED:20240607T165355Z
UID:10005526-1718299800-1718305200@rustedrailgolf.com
SUMMARY:Ladies Golf!
DESCRIPTION:  \nGrab the girls and join us for Ladies Golf!\nNon Members: $25 Green Fee (includes cart) | $5 cash entry fee\nMembers: $5 cash entry fee
URL:https://rustedrailgolf.com/event/ladies-golf-3/2024-06-13/
LOCATION:Rusted Rail Golf
CATEGORIES:Skins/Scrambles
ATTACH;FMTTYPE=image/png:https://rustedrailgolf.com/wp-content/uploads/2024/03/Ladies.png
END:VEVENT
BEGIN:VEVENT
DTSTART;TZID=America/Toronto:20240613T180000
DTEND;TZID=America/Toronto:20240613T200000
DTSTAMP:20260420T085138
CREATED:20240228T205144Z
LAST-MODIFIED:20240606T201011Z
UID:10005467-1718301600-1718308800@rustedrailgolf.com
SUMMARY:Venue Private Event
DESCRIPTION:
URL:https://rustedrailgolf.com/event/venue-private-event-7/
LOCATION:Rusted Rail Golf
ORGANIZER;CN="AmyB":MAILTO:amy@rustedrailgolf.com
END:VEVENT
BEGIN:VEVENT
DTSTART;TZID=America/Toronto:20240613T190000
DTEND;TZID=America/Toronto:20240613T220000
DTSTAMP:20260420T085138
CREATED:20240504T162108Z
LAST-MODIFIED:20240606T145322Z
UID:10005491-1718305200-1718316000@rustedrailgolf.com
SUMMARY:#ThirstyThursday Feat. Mile Post 595!
DESCRIPTION:  \nWhether you’re thirsty for drinks or thirsty for great live music\, we’ve got ya covered!\nLive Music with Mile Post 595 from 7p-10p | ALL DAY Happy Hour | $3.50 beers | $5.50 wells\nWhite Plate Special: Salisbury Steak\, Mashed Potatoes\, Green Beans\, Dinner Roll | served 6pm – 9m\nLate Nite Menu served 9pm – 10pm
URL:https://rustedrailgolf.com/event/thirstythursday-feat-dale-riley-2024-05-09/
LOCATION:Rusted Rail Golf
CATEGORIES:Live Music
ATTACH;FMTTYPE=image/jpeg:https://rustedrailgolf.com/wp-content/uploads/2024/02/TT-feat-image.jpg
ORGANIZER;CN="AmyB":MAILTO:amy@rustedrailgolf.com
END:VEVENT
END:VCALENDAR