BEGIN:VCALENDAR
VERSION:2.0
PRODID:-//Rusted Rail Golf Club - ECPv6.15.20//NONSGML v1.0//EN
CALSCALE:GREGORIAN
METHOD:PUBLISH
X-ORIGINAL-URL:https://rustedrailgolf.com
X-WR-CALDESC:Events for Rusted Rail Golf Club
REFRESH-INTERVAL;VALUE=DURATION:PT1H
X-Robots-Tag:noindex
X-PUBLISHED-TTL:PT1H
BEGIN:VTIMEZONE
TZID:America/Toronto
BEGIN:DAYLIGHT
TZOFFSETFROM:-0500
TZOFFSETTO:-0400
TZNAME:EDT
DTSTART:20230312T070000
END:DAYLIGHT
BEGIN:STANDARD
TZOFFSETFROM:-0400
TZOFFSETTO:-0500
TZNAME:EST
DTSTART:20231105T060000
END:STANDARD
BEGIN:DAYLIGHT
TZOFFSETFROM:-0500
TZOFFSETTO:-0400
TZNAME:EDT
DTSTART:20240310T070000
END:DAYLIGHT
BEGIN:STANDARD
TZOFFSETFROM:-0400
TZOFFSETTO:-0500
TZNAME:EST
DTSTART:20241103T060000
END:STANDARD
BEGIN:DAYLIGHT
TZOFFSETFROM:-0500
TZOFFSETTO:-0400
TZNAME:EDT
DTSTART:20250309T070000
END:DAYLIGHT
BEGIN:STANDARD
TZOFFSETFROM:-0400
TZOFFSETTO:-0500
TZNAME:EST
DTSTART:20251102T060000
END:STANDARD
END:VTIMEZONE
BEGIN:VEVENT
DTSTART;TZID=America/Toronto:20240616T110000
DTEND;TZID=America/Toronto:20240616T130000
DTSTAMP:20260420T043152
CREATED:20220519T133026Z
LAST-MODIFIED:20240606T170725Z
UID:10005292-1718535600-1718542800@rustedrailgolf.com
SUMMARY:Father's Day Par-Tee on the Patio!
DESCRIPTION:Come join us on Father’s Day for Par-Tee on the Patio after your round! There will be music\, food\, and the outside bar will be open to celebrate all of the great dad’s out there!
URL:https://rustedrailgolf.com/event/par-tee-on-the-patio/
LOCATION:Rusted Rail Golf
CATEGORIES:Events
ORGANIZER;CN="AmyB":MAILTO:amy@rustedrailgolf.com
END:VEVENT
BEGIN:VEVENT
DTSTART;TZID=America/Toronto:20240616T130000
DTEND;TZID=America/Toronto:20240616T150000
DTSTAMP:20260420T043152
CREATED:20240909T163352Z
LAST-MODIFIED:20240909T163352Z
UID:10005659-1718542800-1718550000@rustedrailgolf.com
SUMMARY:Skins
DESCRIPTION:
URL:https://rustedrailgolf.com/event/skins/2024-06-16/
LOCATION:Rusted Rail Golf
CATEGORIES:Skins/Scrambles
END:VEVENT
END:VCALENDAR