BEGIN:VCALENDAR
VERSION:2.0
PRODID:-//Rusted Rail Golf Club - ECPv6.15.20//NONSGML v1.0//EN
CALSCALE:GREGORIAN
METHOD:PUBLISH
X-ORIGINAL-URL:https://rustedrailgolf.com
X-WR-CALDESC:Events for Rusted Rail Golf Club
REFRESH-INTERVAL;VALUE=DURATION:PT1H
X-Robots-Tag:noindex
X-PUBLISHED-TTL:PT1H
BEGIN:VTIMEZONE
TZID:America/Toronto
BEGIN:DAYLIGHT
TZOFFSETFROM:-0500
TZOFFSETTO:-0400
TZNAME:EDT
DTSTART:20230312T070000
END:DAYLIGHT
BEGIN:STANDARD
TZOFFSETFROM:-0400
TZOFFSETTO:-0500
TZNAME:EST
DTSTART:20231105T060000
END:STANDARD
BEGIN:DAYLIGHT
TZOFFSETFROM:-0500
TZOFFSETTO:-0400
TZNAME:EDT
DTSTART:20240310T070000
END:DAYLIGHT
BEGIN:STANDARD
TZOFFSETFROM:-0400
TZOFFSETTO:-0500
TZNAME:EST
DTSTART:20241103T060000
END:STANDARD
BEGIN:DAYLIGHT
TZOFFSETFROM:-0500
TZOFFSETTO:-0400
TZNAME:EDT
DTSTART:20250309T070000
END:DAYLIGHT
BEGIN:STANDARD
TZOFFSETFROM:-0400
TZOFFSETTO:-0500
TZNAME:EST
DTSTART:20251102T060000
END:STANDARD
END:VTIMEZONE
BEGIN:VEVENT
DTSTART;TZID=America/Toronto:20240620T103000
DTEND;TZID=America/Toronto:20240620T130000
DTSTAMP:20260419T215407
CREATED:20240607T161649Z
LAST-MODIFIED:20240901T230103Z
UID:10005621-1718879400-1718888400@rustedrailgolf.com
SUMMARY:Skins
DESCRIPTION:
URL:https://rustedrailgolf.com/event/skins/2024-06-20/
LOCATION:Rusted Rail Golf
CATEGORIES:Skins/Scrambles
END:VEVENT
BEGIN:VEVENT
DTSTART;TZID=America/Toronto:20240620T173000
DTEND;TZID=America/Toronto:20240620T190000
DTSTAMP:20260419T215407
CREATED:20240504T162108Z
LAST-MODIFIED:20240607T164417Z
UID:10005533-1718904600-1718910000@rustedrailgolf.com
SUMMARY:Couple's Golf!
DESCRIPTION:Whether you are friends or lovers\, grab your partner and join us for Couple’s Golf!\nNon Members: $25 Green Fee (includes cart) | $5 cash entry fee\nMembers: $5 cash entry fee
URL:https://rustedrailgolf.com/event/couples-golf-19/2024-06-20/
LOCATION:Rusted Rail Golf
CATEGORIES:Skins/Scrambles
ATTACH;FMTTYPE=image/png:https://rustedrailgolf.com/wp-content/uploads/2024/03/couples.png
END:VEVENT
BEGIN:VEVENT
DTSTART;TZID=America/Toronto:20240620T190000
DTEND;TZID=America/Toronto:20240620T220000
DTSTAMP:20260419T215407
CREATED:20240228T205704Z
LAST-MODIFIED:20240606T140903Z
UID:10005475-1718910000-1718920800@rustedrailgolf.com
SUMMARY:#ThirstyThursday Feat. Tyler Stokes!
DESCRIPTION:Whether you’re thirsty for drinks or thirsty for great live music\, we’ve got ya covered! Live Music with Tyler Stokes from 7p-10p | ALL DAY Happy Hour | $3.50 beers | $5.50 wells \nWhite Plate Special: Burger Bowl | Top Choice seared beef patty\, Lettuce\, Tomato\, Onion\, Pickle\, Shredded Cheese
URL:https://rustedrailgolf.com/event/thirstythursday-feat-tyler-stokes-4/
LOCATION:Rusted Rail Golf
CATEGORIES:Live Music
ATTACH;FMTTYPE=image/jpeg:https://rustedrailgolf.com/wp-content/uploads/2024/02/TT-feat-image.jpg
ORGANIZER;CN="AmyB":MAILTO:amy@rustedrailgolf.com
END:VEVENT
END:VCALENDAR