BEGIN:VCALENDAR
VERSION:2.0
PRODID:-//Rusted Rail Golf Club - ECPv6.15.20//NONSGML v1.0//EN
CALSCALE:GREGORIAN
METHOD:PUBLISH
X-WR-CALNAME:Rusted Rail Golf Club
X-ORIGINAL-URL:https://rustedrailgolf.com
X-WR-CALDESC:Events for Rusted Rail Golf Club
REFRESH-INTERVAL;VALUE=DURATION:PT1H
X-Robots-Tag:noindex
X-PUBLISHED-TTL:PT1H
BEGIN:VTIMEZONE
TZID:America/Toronto
BEGIN:DAYLIGHT
TZOFFSETFROM:-0500
TZOFFSETTO:-0400
TZNAME:EDT
DTSTART:20230312T070000
END:DAYLIGHT
BEGIN:STANDARD
TZOFFSETFROM:-0400
TZOFFSETTO:-0500
TZNAME:EST
DTSTART:20231105T060000
END:STANDARD
BEGIN:DAYLIGHT
TZOFFSETFROM:-0500
TZOFFSETTO:-0400
TZNAME:EDT
DTSTART:20240310T070000
END:DAYLIGHT
BEGIN:STANDARD
TZOFFSETFROM:-0400
TZOFFSETTO:-0500
TZNAME:EST
DTSTART:20241103T060000
END:STANDARD
BEGIN:DAYLIGHT
TZOFFSETFROM:-0500
TZOFFSETTO:-0400
TZNAME:EDT
DTSTART:20250309T070000
END:DAYLIGHT
BEGIN:STANDARD
TZOFFSETFROM:-0400
TZOFFSETTO:-0500
TZNAME:EST
DTSTART:20251102T060000
END:STANDARD
END:VTIMEZONE
BEGIN:VEVENT
DTSTART;TZID=America/Toronto:20240621T090000
DTEND;TZID=America/Toronto:20240621T110000
DTSTAMP:20260419T202931
CREATED:20240504T162108Z
LAST-MODIFIED:20240901T230144Z
UID:10005544-1718960400-1718967600@rustedrailgolf.com
SUMMARY:Senior Skins!
DESCRIPTION:
URL:https://rustedrailgolf.com/event/co-ed-scramble/2024-06-21/
LOCATION:Rusted Rail Golf
CATEGORIES:Skins/Scrambles
END:VEVENT
BEGIN:VEVENT
DTSTART;TZID=America/Toronto:20240621T160000
DTEND;TZID=America/Toronto:20240621T210000
DTSTAMP:20260419T202931
CREATED:20240228T205144Z
LAST-MODIFIED:20240606T200902Z
UID:10005466-1718985600-1719003600@rustedrailgolf.com
SUMMARY:Venue Private Event
DESCRIPTION:
URL:https://rustedrailgolf.com/event/venue-private-event-5/
LOCATION:Rusted Rail Golf
ORGANIZER;CN="AmyB":MAILTO:amy@rustedrailgolf.com
END:VEVENT
BEGIN:VEVENT
DTSTART;TZID=America/Toronto:20240621T173000
DTEND;TZID=America/Toronto:20240621T200000
DTSTAMP:20260419T202931
CREATED:20240607T151139Z
LAST-MODIFIED:20240901T225713Z
UID:10005598-1718991000-1719000000@rustedrailgolf.com
SUMMARY:Co-Ed Friday Scramble!
DESCRIPTION:Come join us every Friday for our Co-Ed Scramble! It’s a 9-hole scramble that starts every Friday at 5:30pm! \nNon Members: $25 green fee | $10 cash buy in | $5 cash carry-over skin hole\nMembers: $10 cash buy in | $5 cash carry-over skin hole
URL:https://rustedrailgolf.com/event/co-ed-friday-scramble/2024-06-21/
LOCATION:Rusted Rail Golf
CATEGORIES:Skins/Scrambles
ATTACH;FMTTYPE=image/png:https://rustedrailgolf.com/wp-content/uploads/2024/05/Tuesday-Friday-scrambles-e1714846315560.png
END:VEVENT
BEGIN:VEVENT
DTSTART;TZID=America/Toronto:20240621T190000
DTEND;TZID=America/Toronto:20240621T220000
DTSTAMP:20260419T202931
CREATED:20240504T162108Z
LAST-MODIFIED:20240606T154754Z
UID:10005593-1718996400-1719007200@rustedrailgolf.com
SUMMARY:#FeelGoodFriday Feat. Karaoke!
DESCRIPTION:  \nWhether you like to sing\, or like to have drinks\, hang with friends\, and watch OTHER people sing\, we’ve got ya covered!\nDon’t miss Karaoke this week from 7p-10p | Happy Hour 7p – 10p | $3.50 beers | $5.50 wells\nLate Nite Menu served 9pm – 10pm
URL:https://rustedrailgolf.com/event/feelgoodfriday-feat-karaoke-3/
LOCATION:Rusted Rail Golf
CATEGORIES:Karaoke
ATTACH;FMTTYPE=image/png:https://rustedrailgolf.com/wp-content/uploads/2024/05/FGF-feat-image.png
ORGANIZER;CN="AmyB":MAILTO:amy@rustedrailgolf.com
END:VEVENT
END:VCALENDAR