BEGIN:VCALENDAR
VERSION:2.0
PRODID:-//Rusted Rail Golf Club - ECPv6.15.20//NONSGML v1.0//EN
CALSCALE:GREGORIAN
METHOD:PUBLISH
X-ORIGINAL-URL:https://rustedrailgolf.com
X-WR-CALDESC:Events for Rusted Rail Golf Club
REFRESH-INTERVAL;VALUE=DURATION:PT1H
X-Robots-Tag:noindex
X-PUBLISHED-TTL:PT1H
BEGIN:VTIMEZONE
TZID:America/Toronto
BEGIN:DAYLIGHT
TZOFFSETFROM:-0500
TZOFFSETTO:-0400
TZNAME:EDT
DTSTART:20230312T070000
END:DAYLIGHT
BEGIN:STANDARD
TZOFFSETFROM:-0400
TZOFFSETTO:-0500
TZNAME:EST
DTSTART:20231105T060000
END:STANDARD
BEGIN:DAYLIGHT
TZOFFSETFROM:-0500
TZOFFSETTO:-0400
TZNAME:EDT
DTSTART:20240310T070000
END:DAYLIGHT
BEGIN:STANDARD
TZOFFSETFROM:-0400
TZOFFSETTO:-0500
TZNAME:EST
DTSTART:20241103T060000
END:STANDARD
BEGIN:DAYLIGHT
TZOFFSETFROM:-0500
TZOFFSETTO:-0400
TZNAME:EDT
DTSTART:20250309T070000
END:DAYLIGHT
BEGIN:STANDARD
TZOFFSETFROM:-0400
TZOFFSETTO:-0500
TZNAME:EST
DTSTART:20251102T060000
END:STANDARD
END:VTIMEZONE
BEGIN:VEVENT
DTSTART;TZID=America/Toronto:20240627T103000
DTEND;TZID=America/Toronto:20240627T130000
DTSTAMP:20260419T114604
CREATED:20240607T161649Z
LAST-MODIFIED:20240901T230103Z
UID:10005623-1719484200-1719493200@rustedrailgolf.com
SUMMARY:Skins
DESCRIPTION:
URL:https://rustedrailgolf.com/event/skins/2024-06-27/
LOCATION:Rusted Rail Golf
CATEGORIES:Skins/Scrambles
END:VEVENT
BEGIN:VEVENT
DTSTART;TZID=America/Toronto:20240627T173000
DTEND;TZID=America/Toronto:20240627T190000
DTSTAMP:20260419T114604
CREATED:20240504T162108Z
LAST-MODIFIED:20240607T165355Z
UID:10005527-1719509400-1719514800@rustedrailgolf.com
SUMMARY:Ladies Golf!
DESCRIPTION:  \nGrab the girls and join us for Ladies Golf!\nNon Members: $25 Green Fee (includes cart) | $5 cash entry fee\nMembers: $5 cash entry fee
URL:https://rustedrailgolf.com/event/ladies-golf-3/2024-06-27/
LOCATION:Rusted Rail Golf
CATEGORIES:Skins/Scrambles
ATTACH;FMTTYPE=image/png:https://rustedrailgolf.com/wp-content/uploads/2024/03/Ladies.png
END:VEVENT
BEGIN:VEVENT
DTSTART;TZID=America/Toronto:20240627T190000
DTEND;TZID=America/Toronto:20240627T220000
DTSTAMP:20260419T114604
CREATED:20240228T205704Z
LAST-MODIFIED:20240606T145536Z
UID:10005477-1719514800-1719525600@rustedrailgolf.com
SUMMARY:#ThirstyThursday Feat. Brian Lynn Jones!
DESCRIPTION:Whether you’re thirsty for drinks or thirsty for great live music\, we’ve got ya covered! Live Music with Brian Lynn Jones from 7p-10p | ALL DAY Happy Hour | $3.50 beers | $5.50 wells \nWhite Plate Special | Meatloaf\, corn\, mashed potatoes\, dinner roll
URL:https://rustedrailgolf.com/event/thirstythursday-feat-brian-lynn-jones-3/
LOCATION:Rusted Rail Golf
CATEGORIES:Live Music
ATTACH;FMTTYPE=image/jpeg:https://rustedrailgolf.com/wp-content/uploads/2024/02/TT-feat-image.jpg
ORGANIZER;CN="AmyB":MAILTO:amy@rustedrailgolf.com
END:VEVENT
END:VCALENDAR