BEGIN:VCALENDAR
VERSION:2.0
PRODID:-//Rusted Rail Golf Club - ECPv6.15.20//NONSGML v1.0//EN
CALSCALE:GREGORIAN
METHOD:PUBLISH
X-WR-CALNAME:Rusted Rail Golf Club
X-ORIGINAL-URL:https://rustedrailgolf.com
X-WR-CALDESC:Events for Rusted Rail Golf Club
REFRESH-INTERVAL;VALUE=DURATION:PT1H
X-Robots-Tag:noindex
X-PUBLISHED-TTL:PT1H
BEGIN:VTIMEZONE
TZID:America/Toronto
BEGIN:DAYLIGHT
TZOFFSETFROM:-0500
TZOFFSETTO:-0400
TZNAME:EDT
DTSTART:20230312T070000
END:DAYLIGHT
BEGIN:STANDARD
TZOFFSETFROM:-0400
TZOFFSETTO:-0500
TZNAME:EST
DTSTART:20231105T060000
END:STANDARD
BEGIN:DAYLIGHT
TZOFFSETFROM:-0500
TZOFFSETTO:-0400
TZNAME:EDT
DTSTART:20240310T070000
END:DAYLIGHT
BEGIN:STANDARD
TZOFFSETFROM:-0400
TZOFFSETTO:-0500
TZNAME:EST
DTSTART:20241103T060000
END:STANDARD
BEGIN:DAYLIGHT
TZOFFSETFROM:-0500
TZOFFSETTO:-0400
TZNAME:EDT
DTSTART:20250309T070000
END:DAYLIGHT
BEGIN:STANDARD
TZOFFSETFROM:-0400
TZOFFSETTO:-0500
TZNAME:EST
DTSTART:20251102T060000
END:STANDARD
END:VTIMEZONE
BEGIN:VEVENT
DTSTART;VALUE=DATE:20240628
DTEND;VALUE=DATE:20240629
DTSTAMP:20260419T101939
CREATED:20240330T194823Z
LAST-MODIFIED:20240606T194020Z
UID:10005488-1719532800-1719619199@rustedrailgolf.com
SUMMARY:Par for a Cure Golf Tournament
DESCRIPTION:Join us at Rusted Rail June 28th at 8:30 am for a two person scramble. It will be a 18 hole two person scramble non handicap tournament\, Men will play from the white Tees Women will play from the red Tees. $100 per player ($200 per team) this will include the golf\, prizes\, and food after the round. Sign up online today! if you have any questions call the pro shop ( 972-472-5148 )
URL:https://rustedrailgolf.com/event/par-for-a-cure-golf-tournament/
LOCATION:Rusted Rail Golf
CATEGORIES:Tournaments
ORGANIZER;CN="AmyB":MAILTO:amy@rustedrailgolf.com
END:VEVENT
BEGIN:VEVENT
DTSTART;TZID=America/Toronto:20240628T190000
DTEND;TZID=America/Toronto:20240628T220000
DTSTAMP:20260419T101939
CREATED:20240504T162108Z
LAST-MODIFIED:20240606T155045Z
UID:10005594-1719601200-1719612000@rustedrailgolf.com
SUMMARY:#FeelGoodFriday Feat. Karaoke!
DESCRIPTION:  \nWhether you like to sing\, or like to have drinks\, hang with friends\, and watch OTHER people sing\, we’ve got ya covered!\nDon’t miss Karaoke this week from 7p-10p | Happy Hour 7p – 10p | $3.50 beers | $5.50 wells\nLate Nite Menu served 9pm – 10pm
URL:https://rustedrailgolf.com/event/feelgoodfriday-feat-karaoke-4/
LOCATION:Rusted Rail Golf
CATEGORIES:Karaoke
ATTACH;FMTTYPE=image/png:https://rustedrailgolf.com/wp-content/uploads/2024/05/FGF-feat-image.png
ORGANIZER;CN="AmyB":MAILTO:amy@rustedrailgolf.com
END:VEVENT
END:VCALENDAR