BEGIN:VCALENDAR
VERSION:2.0
PRODID:-//Rusted Rail Golf Club - ECPv6.15.20//NONSGML v1.0//EN
CALSCALE:GREGORIAN
METHOD:PUBLISH
X-WR-CALNAME:Rusted Rail Golf Club
X-ORIGINAL-URL:https://rustedrailgolf.com
X-WR-CALDESC:Events for Rusted Rail Golf Club
REFRESH-INTERVAL;VALUE=DURATION:PT1H
X-Robots-Tag:noindex
X-PUBLISHED-TTL:PT1H
BEGIN:VTIMEZONE
TZID:America/Toronto
BEGIN:DAYLIGHT
TZOFFSETFROM:-0500
TZOFFSETTO:-0400
TZNAME:EDT
DTSTART:20190310T070000
END:DAYLIGHT
BEGIN:STANDARD
TZOFFSETFROM:-0400
TZOFFSETTO:-0500
TZNAME:EST
DTSTART:20191103T060000
END:STANDARD
BEGIN:DAYLIGHT
TZOFFSETFROM:-0500
TZOFFSETTO:-0400
TZNAME:EDT
DTSTART:20200308T070000
END:DAYLIGHT
BEGIN:STANDARD
TZOFFSETFROM:-0400
TZOFFSETTO:-0500
TZNAME:EST
DTSTART:20201101T060000
END:STANDARD
BEGIN:DAYLIGHT
TZOFFSETFROM:-0500
TZOFFSETTO:-0400
TZNAME:EDT
DTSTART:20210314T070000
END:DAYLIGHT
BEGIN:STANDARD
TZOFFSETFROM:-0400
TZOFFSETTO:-0500
TZNAME:EST
DTSTART:20211107T060000
END:STANDARD
END:VTIMEZONE
BEGIN:VEVENT
DTSTART;VALUE=DATE:20200616
DTEND;VALUE=DATE:20200617
DTSTAMP:20260425T210034
CREATED:20200122T180716Z
LAST-MODIFIED:20200122T180716Z
UID:10004483-1592265600-1592351999@rustedrailgolf.com
SUMMARY:Burger Tuesday
DESCRIPTION:
URL:https://rustedrailgolf.com/event/burger-tuesday-32/
END:VEVENT
BEGIN:VEVENT
DTSTART;VALUE=DATE:20200610
DTEND;VALUE=DATE:20200611
DTSTAMP:20260425T210034
CREATED:20200122T183216Z
LAST-MODIFIED:20200122T183216Z
UID:10004547-1591747200-1591833599@rustedrailgolf.com
SUMMARY:Wing Wednesday
DESCRIPTION:
URL:https://rustedrailgolf.com/event/wing-wednesday-32/
END:VEVENT
BEGIN:VEVENT
DTSTART;VALUE=DATE:20200609
DTEND;VALUE=DATE:20200610
DTSTAMP:20260425T210034
CREATED:20200122T180640Z
LAST-MODIFIED:20200122T180640Z
UID:10004482-1591660800-1591747199@rustedrailgolf.com
SUMMARY:Burger Tuesday
DESCRIPTION:
URL:https://rustedrailgolf.com/event/burger-tuesday-31/
END:VEVENT
BEGIN:VEVENT
DTSTART;VALUE=DATE:20200603
DTEND;VALUE=DATE:20200604
DTSTAMP:20260425T210034
CREATED:20200122T183139Z
LAST-MODIFIED:20200122T183139Z
UID:10004546-1591142400-1591228799@rustedrailgolf.com
SUMMARY:Wing Wednesday
DESCRIPTION:
URL:https://rustedrailgolf.com/event/wing-wednesday-31/
END:VEVENT
BEGIN:VEVENT
DTSTART;VALUE=DATE:20200602
DTEND;VALUE=DATE:20200603
DTSTAMP:20260425T210034
CREATED:20200122T180546Z
LAST-MODIFIED:20200122T180546Z
UID:10004481-1591056000-1591142399@rustedrailgolf.com
SUMMARY:Burger Tuesday
DESCRIPTION:
URL:https://rustedrailgolf.com/event/burger-tuesday-30/
END:VEVENT
BEGIN:VEVENT
DTSTART;VALUE=DATE:20200527
DTEND;VALUE=DATE:20200528
DTSTAMP:20260425T210034
CREATED:20200122T183105Z
LAST-MODIFIED:20200122T183105Z
UID:10004545-1590537600-1590623999@rustedrailgolf.com
SUMMARY:Wing Wednesday
DESCRIPTION:
URL:https://rustedrailgolf.com/event/wing-wednesday-30/
END:VEVENT
BEGIN:VEVENT
DTSTART;VALUE=DATE:20200526
DTEND;VALUE=DATE:20200527
DTSTAMP:20260425T210034
CREATED:20200122T180507Z
LAST-MODIFIED:20200122T180507Z
UID:10004480-1590451200-1590537599@rustedrailgolf.com
SUMMARY:Burger Tuesday
DESCRIPTION:
URL:https://rustedrailgolf.com/event/burger-tuesday-29/
END:VEVENT
BEGIN:VEVENT
DTSTART;VALUE=DATE:20200520
DTEND;VALUE=DATE:20200521
DTSTAMP:20260425T210034
CREATED:20200122T183028Z
LAST-MODIFIED:20200122T183028Z
UID:10004503-1589932800-1590019199@rustedrailgolf.com
SUMMARY:Wing Wednesday
DESCRIPTION:
URL:https://rustedrailgolf.com/event/wing-wednesday-29/
END:VEVENT
BEGIN:VEVENT
DTSTART;VALUE=DATE:20200519
DTEND;VALUE=DATE:20200520
DTSTAMP:20260425T210034
CREATED:20200122T180328Z
LAST-MODIFIED:20200122T180328Z
UID:10004479-1589846400-1589932799@rustedrailgolf.com
SUMMARY:Burger Tuesday
DESCRIPTION:
URL:https://rustedrailgolf.com/event/burger-tuesday-28/
END:VEVENT
BEGIN:VEVENT
DTSTART;VALUE=DATE:20200513
DTEND;VALUE=DATE:20200514
DTSTAMP:20260425T210034
CREATED:20200122T182945Z
LAST-MODIFIED:20200122T182945Z
UID:10004502-1589328000-1589414399@rustedrailgolf.com
SUMMARY:Wing Wednesday
DESCRIPTION:
URL:https://rustedrailgolf.com/event/wing-wednesday-28/
END:VEVENT
BEGIN:VEVENT
DTSTART;VALUE=DATE:20200512
DTEND;VALUE=DATE:20200513
DTSTAMP:20260425T210034
CREATED:20200122T180250Z
LAST-MODIFIED:20200122T180250Z
UID:10004478-1589241600-1589327999@rustedrailgolf.com
SUMMARY:Burger Tuesday
DESCRIPTION:
URL:https://rustedrailgolf.com/event/burger-tuesday-27/
END:VEVENT
BEGIN:VEVENT
DTSTART;VALUE=DATE:20200506
DTEND;VALUE=DATE:20200507
DTSTAMP:20260425T210034
CREATED:20200122T182904Z
LAST-MODIFIED:20200122T182904Z
UID:10004501-1588723200-1588809599@rustedrailgolf.com
SUMMARY:Wing Wednesday
DESCRIPTION:
URL:https://rustedrailgolf.com/event/wing-wednesday-27/
END:VEVENT
BEGIN:VEVENT
DTSTART;VALUE=DATE:20200505
DTEND;VALUE=DATE:20200506
DTSTAMP:20260425T210034
CREATED:20200122T180212Z
LAST-MODIFIED:20200122T180212Z
UID:10004477-1588636800-1588723199@rustedrailgolf.com
SUMMARY:Burger Tuesday
DESCRIPTION:
URL:https://rustedrailgolf.com/event/burger-tuesday-26/
END:VEVENT
BEGIN:VEVENT
DTSTART;VALUE=DATE:20200429
DTEND;VALUE=DATE:20200430
DTSTAMP:20260425T210034
CREATED:20200122T182826Z
LAST-MODIFIED:20200122T182826Z
UID:10004500-1588118400-1588204799@rustedrailgolf.com
SUMMARY:Wing Wednesday
DESCRIPTION:
URL:https://rustedrailgolf.com/event/wing-wednesday-26/
END:VEVENT
BEGIN:VEVENT
DTSTART;VALUE=DATE:20200428
DTEND;VALUE=DATE:20200429
DTSTAMP:20260425T210034
CREATED:20200122T180133Z
LAST-MODIFIED:20200122T180133Z
UID:10004476-1588032000-1588118399@rustedrailgolf.com
SUMMARY:Burger Tuesday
DESCRIPTION:
URL:https://rustedrailgolf.com/event/burger-tuesday-25/
END:VEVENT
BEGIN:VEVENT
DTSTART;VALUE=DATE:20200422
DTEND;VALUE=DATE:20200423
DTSTAMP:20260425T210034
CREATED:20200122T182611Z
LAST-MODIFIED:20200122T182611Z
UID:10004498-1587513600-1587599999@rustedrailgolf.com
SUMMARY:Wing Wednesday
DESCRIPTION:
URL:https://rustedrailgolf.com/event/wing-wednesday-24/
END:VEVENT
BEGIN:VEVENT
DTSTART;VALUE=DATE:20200421
DTEND;VALUE=DATE:20200422
DTSTAMP:20260425T210035
CREATED:20200122T180059Z
LAST-MODIFIED:20200122T180059Z
UID:10004475-1587427200-1587513599@rustedrailgolf.com
SUMMARY:Burger Tuesday
DESCRIPTION:
URL:https://rustedrailgolf.com/event/burger-tuesday-24/
END:VEVENT
BEGIN:VEVENT
DTSTART;VALUE=DATE:20200415
DTEND;VALUE=DATE:20200416
DTSTAMP:20260425T210035
CREATED:20200122T182748Z
LAST-MODIFIED:20200122T182748Z
UID:10004499-1586908800-1586995199@rustedrailgolf.com
SUMMARY:Wing Wednesday
DESCRIPTION:
URL:https://rustedrailgolf.com/event/wing-wednesday-25/
END:VEVENT
BEGIN:VEVENT
DTSTART;VALUE=DATE:20200414
DTEND;VALUE=DATE:20200415
DTSTAMP:20260425T210035
CREATED:20200122T180024Z
LAST-MODIFIED:20200122T180024Z
UID:10004474-1586822400-1586908799@rustedrailgolf.com
SUMMARY:Burger Tuesday
DESCRIPTION:
URL:https://rustedrailgolf.com/event/burger-tuesday-23/
END:VEVENT
BEGIN:VEVENT
DTSTART;VALUE=DATE:20200408
DTEND;VALUE=DATE:20200409
DTSTAMP:20260425T210035
CREATED:20200122T182220Z
LAST-MODIFIED:20200122T182234Z
UID:10004497-1586304000-1586390399@rustedrailgolf.com
SUMMARY:Wing Wednesday
DESCRIPTION:
URL:https://rustedrailgolf.com/event/wing-wednesday-23/
END:VEVENT
BEGIN:VEVENT
DTSTART;VALUE=DATE:20200407
DTEND;VALUE=DATE:20200408
DTSTAMP:20260425T210035
CREATED:20200122T175945Z
LAST-MODIFIED:20200122T175945Z
UID:10004473-1586217600-1586303999@rustedrailgolf.com
SUMMARY:Burger Tuesday
DESCRIPTION:
URL:https://rustedrailgolf.com/event/burger-tuesday-22/
END:VEVENT
BEGIN:VEVENT
DTSTART;VALUE=DATE:20200401
DTEND;VALUE=DATE:20200402
DTSTAMP:20260425T210035
CREATED:20200122T182133Z
LAST-MODIFIED:20200122T182133Z
UID:10004496-1585699200-1585785599@rustedrailgolf.com
SUMMARY:Wing Wednesday
DESCRIPTION:
URL:https://rustedrailgolf.com/event/wing-wednesday-22/
END:VEVENT
BEGIN:VEVENT
DTSTART;VALUE=DATE:20200331
DTEND;VALUE=DATE:20200401
DTSTAMP:20260425T210035
CREATED:20200122T175903Z
LAST-MODIFIED:20200122T175903Z
UID:10004472-1585612800-1585699199@rustedrailgolf.com
SUMMARY:Burger Tuesday
DESCRIPTION:
URL:https://rustedrailgolf.com/event/burger-tuesday-21/
END:VEVENT
BEGIN:VEVENT
DTSTART;VALUE=DATE:20200327
DTEND;VALUE=DATE:20200328
DTSTAMP:20260425T210035
CREATED:20200206T163333Z
LAST-MODIFIED:20200220T162825Z
UID:10004570-1585267200-1585353599@rustedrailgolf.com
SUMMARY:Friyay Friday
DESCRIPTION:
URL:https://rustedrailgolf.com/event/friyay-friday/2020-03-27/
END:VEVENT
BEGIN:VEVENT
DTSTART;TZID=America/Toronto:20200326T150000
DTEND;TZID=America/Toronto:20200326T190000
DTSTAMP:20260425T210035
CREATED:20200207T222203Z
LAST-MODIFIED:20200220T162549Z
UID:10004581-1585234800-1585249200@rustedrailgolf.com
SUMMARY:Thursday Happy Hour
DESCRIPTION:
URL:https://rustedrailgolf.com/event/thursday-happy-hour/2020-03-26/
LOCATION:Rusted Rail Golf
END:VEVENT
BEGIN:VEVENT
DTSTART;VALUE=DATE:20200326
DTEND;VALUE=DATE:20200329
DTSTAMP:20260425T210035
CREATED:20191231T170536Z
LAST-MODIFIED:20191231T170536Z
UID:10004446-1585180800-1585439999@rustedrailgolf.com
SUMMARY:March Madness-West Regional
DESCRIPTION:March 26-28
URL:https://rustedrailgolf.com/event/march-madness-west-regional/
END:VEVENT
BEGIN:VEVENT
DTSTART;VALUE=DATE:20200326
DTEND;VALUE=DATE:20200329
DTSTAMP:20260425T210035
CREATED:20191231T170453Z
LAST-MODIFIED:20191231T170453Z
UID:10004445-1585180800-1585439999@rustedrailgolf.com
SUMMARY:March Madness-Midwest Regional
DESCRIPTION:March 26-28
URL:https://rustedrailgolf.com/event/march-madness-midwest-regional/
END:VEVENT
BEGIN:VEVENT
DTSTART;VALUE=DATE:20200326
DTEND;VALUE=DATE:20200327
DTSTAMP:20260425T210035
CREATED:20200122T184936Z
LAST-MODIFIED:20200220T162721Z
UID:10004560-1585180800-1585267199@rustedrailgolf.com
SUMMARY:Thirsty Thursday
DESCRIPTION:
URL:https://rustedrailgolf.com/event/thirsty-thursday-13/2020-03-26/
END:VEVENT
BEGIN:VEVENT
DTSTART;VALUE=DATE:20200325
DTEND;VALUE=DATE:20200326
DTSTAMP:20260425T210035
CREATED:20200122T181759Z
LAST-MODIFIED:20200122T181759Z
UID:10004494-1585094400-1585180799@rustedrailgolf.com
SUMMARY:Wing Wednesday
DESCRIPTION:
URL:https://rustedrailgolf.com/event/wing-wednesday-20/
END:VEVENT
BEGIN:VEVENT
DTSTART;VALUE=DATE:20200324
DTEND;VALUE=DATE:20200325
DTSTAMP:20260425T210035
CREATED:20200122T175813Z
LAST-MODIFIED:20200122T175813Z
UID:10004471-1585008000-1585094399@rustedrailgolf.com
SUMMARY:Burger Tuesday
DESCRIPTION:
URL:https://rustedrailgolf.com/event/burger-tuesday-20/
END:VEVENT
END:VCALENDAR