BEGIN:VCALENDAR
VERSION:2.0
PRODID:-//Rusted Rail Golf Club - ECPv6.15.20//NONSGML v1.0//EN
CALSCALE:GREGORIAN
METHOD:PUBLISH
X-WR-CALNAME:Rusted Rail Golf Club
X-ORIGINAL-URL:https://rustedrailgolf.com
X-WR-CALDESC:Events for Rusted Rail Golf Club
REFRESH-INTERVAL;VALUE=DURATION:PT1H
X-Robots-Tag:noindex
X-PUBLISHED-TTL:PT1H
BEGIN:VTIMEZONE
TZID:America/Toronto
BEGIN:DAYLIGHT
TZOFFSETFROM:-0500
TZOFFSETTO:-0400
TZNAME:EDT
DTSTART:20190310T070000
END:DAYLIGHT
BEGIN:STANDARD
TZOFFSETFROM:-0400
TZOFFSETTO:-0500
TZNAME:EST
DTSTART:20191103T060000
END:STANDARD
BEGIN:DAYLIGHT
TZOFFSETFROM:-0500
TZOFFSETTO:-0400
TZNAME:EDT
DTSTART:20200308T070000
END:DAYLIGHT
BEGIN:STANDARD
TZOFFSETFROM:-0400
TZOFFSETTO:-0500
TZNAME:EST
DTSTART:20201101T060000
END:STANDARD
BEGIN:DAYLIGHT
TZOFFSETFROM:-0500
TZOFFSETTO:-0400
TZNAME:EDT
DTSTART:20210314T070000
END:DAYLIGHT
BEGIN:STANDARD
TZOFFSETFROM:-0400
TZOFFSETTO:-0500
TZNAME:EST
DTSTART:20211107T060000
END:STANDARD
END:VTIMEZONE
BEGIN:VEVENT
DTSTART;VALUE=DATE:20200407
DTEND;VALUE=DATE:20200408
DTSTAMP:20260426T000258
CREATED:20200122T175945Z
LAST-MODIFIED:20200122T175945Z
UID:10004473-1586217600-1586303999@rustedrailgolf.com
SUMMARY:Burger Tuesday
DESCRIPTION:
URL:https://rustedrailgolf.com/event/burger-tuesday-22/
END:VEVENT
BEGIN:VEVENT
DTSTART;VALUE=DATE:20200401
DTEND;VALUE=DATE:20200402
DTSTAMP:20260426T000258
CREATED:20200122T182133Z
LAST-MODIFIED:20200122T182133Z
UID:10004496-1585699200-1585785599@rustedrailgolf.com
SUMMARY:Wing Wednesday
DESCRIPTION:
URL:https://rustedrailgolf.com/event/wing-wednesday-22/
END:VEVENT
BEGIN:VEVENT
DTSTART;VALUE=DATE:20200331
DTEND;VALUE=DATE:20200401
DTSTAMP:20260426T000258
CREATED:20200122T175903Z
LAST-MODIFIED:20200122T175903Z
UID:10004472-1585612800-1585699199@rustedrailgolf.com
SUMMARY:Burger Tuesday
DESCRIPTION:
URL:https://rustedrailgolf.com/event/burger-tuesday-21/
END:VEVENT
BEGIN:VEVENT
DTSTART;VALUE=DATE:20200327
DTEND;VALUE=DATE:20200328
DTSTAMP:20260426T000258
CREATED:20200206T163333Z
LAST-MODIFIED:20200220T162825Z
UID:10004570-1585267200-1585353599@rustedrailgolf.com
SUMMARY:Friyay Friday
DESCRIPTION:
URL:https://rustedrailgolf.com/event/friyay-friday/2020-03-27/
END:VEVENT
BEGIN:VEVENT
DTSTART;TZID=America/Toronto:20200326T150000
DTEND;TZID=America/Toronto:20200326T190000
DTSTAMP:20260426T000258
CREATED:20200207T222203Z
LAST-MODIFIED:20200220T162549Z
UID:10004581-1585234800-1585249200@rustedrailgolf.com
SUMMARY:Thursday Happy Hour
DESCRIPTION:
URL:https://rustedrailgolf.com/event/thursday-happy-hour/2020-03-26/
LOCATION:Rusted Rail Golf
END:VEVENT
BEGIN:VEVENT
DTSTART;VALUE=DATE:20200326
DTEND;VALUE=DATE:20200329
DTSTAMP:20260426T000258
CREATED:20191231T170536Z
LAST-MODIFIED:20191231T170536Z
UID:10004446-1585180800-1585439999@rustedrailgolf.com
SUMMARY:March Madness-West Regional
DESCRIPTION:March 26-28
URL:https://rustedrailgolf.com/event/march-madness-west-regional/
END:VEVENT
BEGIN:VEVENT
DTSTART;VALUE=DATE:20200326
DTEND;VALUE=DATE:20200329
DTSTAMP:20260426T000258
CREATED:20191231T170453Z
LAST-MODIFIED:20191231T170453Z
UID:10004445-1585180800-1585439999@rustedrailgolf.com
SUMMARY:March Madness-Midwest Regional
DESCRIPTION:March 26-28
URL:https://rustedrailgolf.com/event/march-madness-midwest-regional/
END:VEVENT
BEGIN:VEVENT
DTSTART;VALUE=DATE:20200326
DTEND;VALUE=DATE:20200327
DTSTAMP:20260426T000258
CREATED:20200122T184936Z
LAST-MODIFIED:20200220T162721Z
UID:10004560-1585180800-1585267199@rustedrailgolf.com
SUMMARY:Thirsty Thursday
DESCRIPTION:
URL:https://rustedrailgolf.com/event/thirsty-thursday-13/2020-03-26/
END:VEVENT
BEGIN:VEVENT
DTSTART;VALUE=DATE:20200325
DTEND;VALUE=DATE:20200326
DTSTAMP:20260426T000258
CREATED:20200122T181759Z
LAST-MODIFIED:20200122T181759Z
UID:10004494-1585094400-1585180799@rustedrailgolf.com
SUMMARY:Wing Wednesday
DESCRIPTION:
URL:https://rustedrailgolf.com/event/wing-wednesday-20/
END:VEVENT
BEGIN:VEVENT
DTSTART;VALUE=DATE:20200324
DTEND;VALUE=DATE:20200325
DTSTAMP:20260426T000258
CREATED:20200122T175813Z
LAST-MODIFIED:20200122T175813Z
UID:10004471-1585008000-1585094399@rustedrailgolf.com
SUMMARY:Burger Tuesday
DESCRIPTION:
URL:https://rustedrailgolf.com/event/burger-tuesday-20/
END:VEVENT
BEGIN:VEVENT
DTSTART;TZID=America/Toronto:20200321T090000
DTEND;TZID=America/Toronto:20200321T130000
DTSTAMP:20260426T000258
CREATED:20200309T180506Z
LAST-MODIFIED:20200309T180713Z
UID:10004598-1584781200-1584795600@rustedrailgolf.com
SUMMARY:March Gladness 4 Person Scramble
DESCRIPTION:CLICK HERE TO REGISTER NOW!\n \n\nCLICK HERE TO REGISTER NOW!
URL:https://rustedrailgolf.com/event/march-gladness-4-person-scramble/
LOCATION:Rusted Rail Golf
END:VEVENT
BEGIN:VEVENT
DTSTART;TZID=America/Toronto:20200321T090000
DTEND;TZID=America/Toronto:20200321T120000
DTSTAMP:20260426T000258
CREATED:20191231T171447Z
LAST-MODIFIED:20191231T172120Z
UID:10004447-1584781200-1584792000@rustedrailgolf.com
SUMMARY:March Madness Scramble
DESCRIPTION:Contact ProShop for Details 972-472-5148
URL:https://rustedrailgolf.com/event/march-madness-scramble/
END:VEVENT
BEGIN:VEVENT
DTSTART;VALUE=DATE:20200321
DTEND;VALUE=DATE:20200322
DTSTAMP:20260426T000258
CREATED:20200224T184616Z
LAST-MODIFIED:20200224T184616Z
UID:10004597-1584748800-1584835199@rustedrailgolf.com
SUMMARY:Quince/ Birthday Party
DESCRIPTION:
URL:https://rustedrailgolf.com/event/quince-birthday-party/
END:VEVENT
BEGIN:VEVENT
DTSTART;VALUE=DATE:20200320
DTEND;VALUE=DATE:20200321
DTSTAMP:20260426T000258
CREATED:20200206T163333Z
LAST-MODIFIED:20200220T162825Z
UID:10004569-1584662400-1584748799@rustedrailgolf.com
SUMMARY:Friyay Friday
DESCRIPTION:
URL:https://rustedrailgolf.com/event/friyay-friday/2020-03-20/
END:VEVENT
BEGIN:VEVENT
DTSTART;TZID=America/Toronto:20200319T180000
DTEND;TZID=America/Toronto:20200319T220000
DTSTAMP:20260426T000258
CREATED:20200220T163422Z
LAST-MODIFIED:20200220T163422Z
UID:10004593-1584640800-1584655200@rustedrailgolf.com
SUMMARY:Open Mic Night
DESCRIPTION:
URL:https://rustedrailgolf.com/event/open-mic-night-2/
LOCATION:Rusted Rail Golf
END:VEVENT
BEGIN:VEVENT
DTSTART;TZID=America/Toronto:20200319T150000
DTEND;TZID=America/Toronto:20200319T190000
DTSTAMP:20260426T000258
CREATED:20200207T222203Z
LAST-MODIFIED:20200220T162549Z
UID:10004580-1584630000-1584644400@rustedrailgolf.com
SUMMARY:Thursday Happy Hour
DESCRIPTION:
URL:https://rustedrailgolf.com/event/thursday-happy-hour/2020-03-19/
LOCATION:Rusted Rail Golf
END:VEVENT
BEGIN:VEVENT
DTSTART;VALUE=DATE:20200319
DTEND;VALUE=DATE:20200323
DTSTAMP:20260426T000258
CREATED:20191231T170403Z
LAST-MODIFIED:20191231T170403Z
UID:10004444-1584576000-1584921599@rustedrailgolf.com
SUMMARY:March Madness-1st/2nd Rounds
DESCRIPTION:March 19-22
URL:https://rustedrailgolf.com/event/march-madness-1st-2nd-rounds/
END:VEVENT
BEGIN:VEVENT
DTSTART;VALUE=DATE:20200319
DTEND;VALUE=DATE:20200321
DTSTAMP:20260426T000258
CREATED:20200217T204341Z
LAST-MODIFIED:20200217T204341Z
UID:10004590-1584576000-1584748799@rustedrailgolf.com
SUMMARY:Junior Golf Camp-Spring Break 8:00AM- 12:00PM
DESCRIPTION:
URL:https://rustedrailgolf.com/event/junior-golf-camp-spring-break-800am-1200pm-2/
END:VEVENT
BEGIN:VEVENT
DTSTART;VALUE=DATE:20200319
DTEND;VALUE=DATE:20200320
DTSTAMP:20260426T000258
CREATED:20200122T184936Z
LAST-MODIFIED:20200220T162721Z
UID:10004559-1584576000-1584662399@rustedrailgolf.com
SUMMARY:Thirsty Thursday
DESCRIPTION:
URL:https://rustedrailgolf.com/event/thirsty-thursday-13/2020-03-19/
END:VEVENT
BEGIN:VEVENT
DTSTART;VALUE=DATE:20200318
DTEND;VALUE=DATE:20200319
DTSTAMP:20260426T000258
CREATED:20200122T181718Z
LAST-MODIFIED:20200122T181718Z
UID:10004493-1584489600-1584575999@rustedrailgolf.com
SUMMARY:Wing Wednesday
DESCRIPTION:
URL:https://rustedrailgolf.com/event/wing-wednesday-19/
END:VEVENT
BEGIN:VEVENT
DTSTART;VALUE=DATE:20200317
DTEND;VALUE=DATE:20200319
DTSTAMP:20260426T000258
CREATED:20191231T170247Z
LAST-MODIFIED:20191231T170247Z
UID:10004443-1584403200-1584575999@rustedrailgolf.com
SUMMARY:March Madness-First Four
DESCRIPTION:March 17-18
URL:https://rustedrailgolf.com/event/march-madness-first-four/
END:VEVENT
BEGIN:VEVENT
DTSTART;VALUE=DATE:20200317
DTEND;VALUE=DATE:20200318
DTSTAMP:20260426T000258
CREATED:20200122T175736Z
LAST-MODIFIED:20200122T175736Z
UID:10004470-1584403200-1584489599@rustedrailgolf.com
SUMMARY:Burger Tuesday
DESCRIPTION:
URL:https://rustedrailgolf.com/event/burger-tuesday-19/
END:VEVENT
BEGIN:VEVENT
DTSTART;VALUE=DATE:20200315
DTEND;VALUE=DATE:20200316
DTSTAMP:20260426T000258
CREATED:20200218T220548Z
LAST-MODIFIED:20200218T220548Z
UID:10004591-1584230400-1584316799@rustedrailgolf.com
SUMMARY:March Gladness
DESCRIPTION:
URL:https://rustedrailgolf.com/event/march-gladness/
LOCATION:Rusted Rail Golf
END:VEVENT
BEGIN:VEVENT
DTSTART;VALUE=DATE:20200315
DTEND;VALUE=DATE:20200316
DTSTAMP:20260426T000258
CREATED:20191231T170134Z
LAST-MODIFIED:20191231T170134Z
UID:10004442-1584230400-1584316799@rustedrailgolf.com
SUMMARY:March Madness Selection Sunday
DESCRIPTION:
URL:https://rustedrailgolf.com/event/march-madness-selection-sunday/
END:VEVENT
BEGIN:VEVENT
DTSTART;VALUE=DATE:20200313
DTEND;VALUE=DATE:20200314
DTSTAMP:20260426T000258
CREATED:20200206T163333Z
LAST-MODIFIED:20200220T162825Z
UID:10004568-1584057600-1584143999@rustedrailgolf.com
SUMMARY:Friyay Friday
DESCRIPTION:
URL:https://rustedrailgolf.com/event/friyay-friday/2020-03-13/
END:VEVENT
BEGIN:VEVENT
DTSTART;TZID=America/Toronto:20200312T150000
DTEND;TZID=America/Toronto:20200312T190000
DTSTAMP:20260426T000258
CREATED:20200207T222203Z
LAST-MODIFIED:20200220T162549Z
UID:10004579-1584025200-1584039600@rustedrailgolf.com
SUMMARY:Thursday Happy Hour
DESCRIPTION:
URL:https://rustedrailgolf.com/event/thursday-happy-hour/2020-03-12/
LOCATION:Rusted Rail Golf
END:VEVENT
BEGIN:VEVENT
DTSTART;VALUE=DATE:20200312
DTEND;VALUE=DATE:20200314
DTSTAMP:20260426T000258
CREATED:20200106T220947Z
LAST-MODIFIED:20200217T204300Z
UID:10004459-1583971200-1584143999@rustedrailgolf.com
SUMMARY:Junior Golf Camp-Spring Break 8:00AM- 12:00PM
DESCRIPTION:
URL:https://rustedrailgolf.com/event/junior-golf-camp-spring-break-800am-1200pm/
ATTACH;FMTTYPE=image/png:https://rustedrailgolf.com/wp-content/uploads/2020/01/sb2020.png
END:VEVENT
BEGIN:VEVENT
DTSTART;VALUE=DATE:20200312
DTEND;VALUE=DATE:20200313
DTSTAMP:20260426T000258
CREATED:20200122T184936Z
LAST-MODIFIED:20200220T162721Z
UID:10004558-1583971200-1584057599@rustedrailgolf.com
SUMMARY:Thirsty Thursday
DESCRIPTION:
URL:https://rustedrailgolf.com/event/thirsty-thursday-13/2020-03-12/
END:VEVENT
BEGIN:VEVENT
DTSTART;VALUE=DATE:20200311
DTEND;VALUE=DATE:20200312
DTSTAMP:20260426T000258
CREATED:20200122T182028Z
LAST-MODIFIED:20200122T182028Z
UID:10004495-1583884800-1583971199@rustedrailgolf.com
SUMMARY:Wing Wednesday
DESCRIPTION:
URL:https://rustedrailgolf.com/event/wing-wednesday-21/
END:VEVENT
BEGIN:VEVENT
DTSTART;VALUE=DATE:20200310
DTEND;VALUE=DATE:20200311
DTSTAMP:20260426T000258
CREATED:20200122T175511Z
LAST-MODIFIED:20200122T175511Z
UID:10004469-1583798400-1583884799@rustedrailgolf.com
SUMMARY:Burger Tuesday
DESCRIPTION:
URL:https://rustedrailgolf.com/event/burger-tuesday-18/
END:VEVENT
END:VCALENDAR