BEGIN:VCALENDAR
VERSION:2.0
PRODID:-//Rusted Rail Golf Club - ECPv6.15.20//NONSGML v1.0//EN
CALSCALE:GREGORIAN
METHOD:PUBLISH
X-ORIGINAL-URL:https://rustedrailgolf.com
X-WR-CALDESC:Events for Rusted Rail Golf Club
REFRESH-INTERVAL;VALUE=DURATION:PT1H
X-Robots-Tag:noindex
X-PUBLISHED-TTL:PT1H
BEGIN:VTIMEZONE
TZID:America/Toronto
BEGIN:DAYLIGHT
TZOFFSETFROM:-0500
TZOFFSETTO:-0400
TZNAME:EDT
DTSTART:20220313T070000
END:DAYLIGHT
BEGIN:STANDARD
TZOFFSETFROM:-0400
TZOFFSETTO:-0500
TZNAME:EST
DTSTART:20221106T060000
END:STANDARD
BEGIN:DAYLIGHT
TZOFFSETFROM:-0500
TZOFFSETTO:-0400
TZNAME:EDT
DTSTART:20230312T070000
END:DAYLIGHT
BEGIN:STANDARD
TZOFFSETFROM:-0400
TZOFFSETTO:-0500
TZNAME:EST
DTSTART:20231105T060000
END:STANDARD
BEGIN:DAYLIGHT
TZOFFSETFROM:-0500
TZOFFSETTO:-0400
TZNAME:EDT
DTSTART:20240310T070000
END:DAYLIGHT
BEGIN:STANDARD
TZOFFSETFROM:-0400
TZOFFSETTO:-0500
TZNAME:EST
DTSTART:20241103T060000
END:STANDARD
END:VTIMEZONE
BEGIN:VEVENT
DTSTART;TZID=America/Toronto:20230901T190000
DTEND;TZID=America/Toronto:20230901T220000
DTSTAMP:20260421T200356
CREATED:20230720T190536Z
LAST-MODIFIED:20230720T190536Z
UID:10005414-1693594800-1693605600@rustedrailgolf.com
SUMMARY:Karaoke
DESCRIPTION:
URL:https://rustedrailgolf.com/event/karaoke-3/2023-09-01/
LOCATION:Rusted Rail Golf
CATEGORIES:News
END:VEVENT
BEGIN:VEVENT
DTSTART;TZID=America/Toronto:20230905T173000
DTEND;TZID=America/Toronto:20230905T203000
DTSTAMP:20260421T200356
CREATED:20230720T185908Z
LAST-MODIFIED:20230720T185908Z
UID:10005397-1693935000-1693945800@rustedrailgolf.com
SUMMARY:Tuesday Scramble
DESCRIPTION:
URL:https://rustedrailgolf.com/event/tuesday-scramble-3/2023-09-05/
LOCATION:Rusted Rail Golf
END:VEVENT
BEGIN:VEVENT
DTSTART;VALUE=DATE:20230906
DTEND;VALUE=DATE:20230907
DTSTAMP:20260421T200356
CREATED:20230725T201540Z
LAST-MODIFIED:20230725T201540Z
UID:10005425-1693958400-1694044799@rustedrailgolf.com
SUMMARY:Wing Wednesday
DESCRIPTION:
URL:https://rustedrailgolf.com/event/wing-wednesday-42/2023-09-06/
LOCATION:Rusted Rail Golf
CATEGORIES:News
END:VEVENT
BEGIN:VEVENT
DTSTART;TZID=America/Toronto:20230908T190000
DTEND;TZID=America/Toronto:20230908T220000
DTSTAMP:20260421T200356
CREATED:20230720T190536Z
LAST-MODIFIED:20230720T190536Z
UID:10005415-1694199600-1694210400@rustedrailgolf.com
SUMMARY:Karaoke
DESCRIPTION:
URL:https://rustedrailgolf.com/event/karaoke-3/2023-09-08/
LOCATION:Rusted Rail Golf
CATEGORIES:News
END:VEVENT
BEGIN:VEVENT
DTSTART;TZID=America/Toronto:20230912T173000
DTEND;TZID=America/Toronto:20230912T203000
DTSTAMP:20260421T200356
CREATED:20230720T185908Z
LAST-MODIFIED:20230720T185908Z
UID:10005398-1694539800-1694550600@rustedrailgolf.com
SUMMARY:Tuesday Scramble
DESCRIPTION:
URL:https://rustedrailgolf.com/event/tuesday-scramble-3/2023-09-12/
LOCATION:Rusted Rail Golf
END:VEVENT
BEGIN:VEVENT
DTSTART;TZID=America/Toronto:20230912T180000
DTEND;TZID=America/Toronto:20230912T200000
DTSTAMP:20260421T200356
CREATED:20230830T150056Z
LAST-MODIFIED:20230830T150056Z
UID:10005445-1694541600-1694548800@rustedrailgolf.com
SUMMARY:Paint Party
DESCRIPTION:
URL:https://rustedrailgolf.com/event/paint-party/
LOCATION:Rusted Rail Golf
CATEGORIES:News
END:VEVENT
BEGIN:VEVENT
DTSTART;VALUE=DATE:20230913
DTEND;VALUE=DATE:20230914
DTSTAMP:20260421T200356
CREATED:20230725T201540Z
LAST-MODIFIED:20230725T201540Z
UID:10005426-1694563200-1694649599@rustedrailgolf.com
SUMMARY:Wing Wednesday
DESCRIPTION:
URL:https://rustedrailgolf.com/event/wing-wednesday-42/2023-09-13/
LOCATION:Rusted Rail Golf
CATEGORIES:News
END:VEVENT
BEGIN:VEVENT
DTSTART;TZID=America/Toronto:20230914T190000
DTEND;TZID=America/Toronto:20230914T220000
DTSTAMP:20260421T200356
CREATED:20230913T141454Z
LAST-MODIFIED:20230913T141454Z
UID:10005449-1694718000-1694728800@rustedrailgolf.com
SUMMARY:Jeremy Ballamy
DESCRIPTION:
URL:https://rustedrailgolf.com/event/jeremy-ballamy/
LOCATION:Rusted Rail Golf
CATEGORIES:News
END:VEVENT
BEGIN:VEVENT
DTSTART;TZID=America/Toronto:20230916T120000
DTEND;TZID=America/Toronto:20230916T170000
DTSTAMP:20260421T200356
CREATED:20230626T153619Z
LAST-MODIFIED:20230626T153619Z
UID:10005390-1694865600-1694883600@rustedrailgolf.com
SUMMARY:St. Jude's Golf Tournament
DESCRIPTION:Join us for a St. Jude’s Golf Tournament\nSaturday September 16th | Shot gun at 12:00pm\n  \nAs St Jude’s continues research and advancement to prevent pediatric diseases\, \nwe invite you to join us for a tournament to help progress this cause.
URL:https://rustedrailgolf.com/event/st-judes-golf-tournament/
LOCATION:Rusted Rail Golf
ATTACH;FMTTYPE=image/png:https://rustedrailgolf.com/wp-content/uploads/2023/06/Rusted-Rail-Golf-TX-⎮-St-Judes-Tournament-Facebook-Event-Cover.png
END:VEVENT
BEGIN:VEVENT
DTSTART;TZID=America/Toronto:20230919T173000
DTEND;TZID=America/Toronto:20230919T203000
DTSTAMP:20260421T200356
CREATED:20230720T185908Z
LAST-MODIFIED:20230720T185908Z
UID:10005399-1695144600-1695155400@rustedrailgolf.com
SUMMARY:Tuesday Scramble
DESCRIPTION:
URL:https://rustedrailgolf.com/event/tuesday-scramble-3/2023-09-19/
LOCATION:Rusted Rail Golf
END:VEVENT
BEGIN:VEVENT
DTSTART;VALUE=DATE:20230920
DTEND;VALUE=DATE:20230921
DTSTAMP:20260421T200356
CREATED:20230725T201540Z
LAST-MODIFIED:20230725T201540Z
UID:10005427-1695168000-1695254399@rustedrailgolf.com
SUMMARY:Wing Wednesday
DESCRIPTION:
URL:https://rustedrailgolf.com/event/wing-wednesday-42/2023-09-20/
LOCATION:Rusted Rail Golf
CATEGORIES:News
END:VEVENT
BEGIN:VEVENT
DTSTART;TZID=America/Toronto:20230926T173000
DTEND;TZID=America/Toronto:20230926T203000
DTSTAMP:20260421T200356
CREATED:20230720T185908Z
LAST-MODIFIED:20230720T185908Z
UID:10005400-1695749400-1695760200@rustedrailgolf.com
SUMMARY:Tuesday Scramble
DESCRIPTION:
URL:https://rustedrailgolf.com/event/tuesday-scramble-3/2023-09-26/
LOCATION:Rusted Rail Golf
END:VEVENT
BEGIN:VEVENT
DTSTART;VALUE=DATE:20230927
DTEND;VALUE=DATE:20230928
DTSTAMP:20260421T200356
CREATED:20230725T201540Z
LAST-MODIFIED:20230725T201540Z
UID:10005428-1695772800-1695859199@rustedrailgolf.com
SUMMARY:Wing Wednesday
DESCRIPTION:
URL:https://rustedrailgolf.com/event/wing-wednesday-42/2023-09-27/
LOCATION:Rusted Rail Golf
CATEGORIES:News
END:VEVENT
END:VCALENDAR