BEGIN:VCALENDAR
VERSION:2.0
PRODID:-//Rusted Rail Golf Club - ECPv6.15.20//NONSGML v1.0//EN
CALSCALE:GREGORIAN
METHOD:PUBLISH
X-ORIGINAL-URL:https://rustedrailgolf.com
X-WR-CALDESC:Events for Rusted Rail Golf Club
REFRESH-INTERVAL;VALUE=DURATION:PT1H
X-Robots-Tag:noindex
X-PUBLISHED-TTL:PT1H
BEGIN:VTIMEZONE
TZID:America/Toronto
BEGIN:DAYLIGHT
TZOFFSETFROM:-0500
TZOFFSETTO:-0400
TZNAME:EDT
DTSTART:20230312T070000
END:DAYLIGHT
BEGIN:STANDARD
TZOFFSETFROM:-0400
TZOFFSETTO:-0500
TZNAME:EST
DTSTART:20231105T060000
END:STANDARD
BEGIN:DAYLIGHT
TZOFFSETFROM:-0500
TZOFFSETTO:-0400
TZNAME:EDT
DTSTART:20240310T070000
END:DAYLIGHT
BEGIN:STANDARD
TZOFFSETFROM:-0400
TZOFFSETTO:-0500
TZNAME:EST
DTSTART:20241103T060000
END:STANDARD
BEGIN:DAYLIGHT
TZOFFSETFROM:-0500
TZOFFSETTO:-0400
TZNAME:EDT
DTSTART:20250309T070000
END:DAYLIGHT
BEGIN:STANDARD
TZOFFSETFROM:-0400
TZOFFSETTO:-0500
TZNAME:EST
DTSTART:20251102T060000
END:STANDARD
END:VTIMEZONE
BEGIN:VEVENT
DTSTART;TZID=America/Toronto:20240404T170000
DTEND;TZID=America/Toronto:20240404T190000
DTSTAMP:20260421T090342
CREATED:20240330T192140Z
LAST-MODIFIED:20240330T192632Z
UID:10005480-1712250000-1712257200@rustedrailgolf.com
SUMMARY:Ladies Golf
DESCRIPTION:Shotgun @ 5pm | 9-Hole Knockout | Participant blind draw\nNon Members: $25 Green Fee (includes cart) + $5 cash entry\nMembers: $5 cash entry\nPOC: Penny Colley | penny@rustedrailgolf.com
URL:https://rustedrailgolf.com/event/ladies-golf/
LOCATION:Rusted Rail Golf
ATTACH;FMTTYPE=image/png:https://rustedrailgolf.com/wp-content/uploads/2024/03/Ladies.png
END:VEVENT
BEGIN:VEVENT
DTSTART;TZID=America/Toronto:20240404T190000
DTEND;TZID=America/Toronto:20240404T220000
DTSTAMP:20260421T090342
CREATED:20240228T205704Z
LAST-MODIFIED:20240330T193313Z
UID:10005471-1712257200-1712268000@rustedrailgolf.com
SUMMARY:#ThirstyThursday Feat. Mile Post 595!
DESCRIPTION:Whether you’re thirsty for drinks or thirsty for great live music\, we’ve got ya covered! Live Music with Mile Post 595 from 7p-10p | ALL DAY Happy Hour | $3.50 beers | $5.50 wells
URL:https://rustedrailgolf.com/event/thirstythursday-feat-tyler-stokes-2/
LOCATION:Rusted Rail Golf
ATTACH;FMTTYPE=image/jpeg:https://rustedrailgolf.com/wp-content/uploads/2024/02/TT-feat-image.jpg
END:VEVENT
BEGIN:VEVENT
DTSTART;VALUE=DATE:20240408
DTEND;VALUE=DATE:20240409
DTSTAMP:20260421T090342
CREATED:20231208T165733Z
LAST-MODIFIED:20240330T191536Z
UID:10005452-1712534400-1712620799@rustedrailgolf.com
SUMMARY:Solar Eclipse Viewing Party!
DESCRIPTION:Come join us as we witness this celestial spectacle together! Tee times will be available from 7:30am to 4:50pm and open to the public! Brian Lynn Jones will be on our patio from 12pm – 3pm and the Rail Bar & Grill will be open from 7am – 6pm! Hope to see you there!
URL:https://rustedrailgolf.com/event/solar-eclipse-viewing-party/
LOCATION:Rusted Rail Golf
ATTACH;FMTTYPE=image/png:https://rustedrailgolf.com/wp-content/uploads/2023/12/featured-event.png
END:VEVENT
BEGIN:VEVENT
DTSTART;TZID=America/Toronto:20240411T170000
DTEND;TZID=America/Toronto:20240411T190000
DTSTAMP:20260421T090342
CREATED:20240330T192430Z
LAST-MODIFIED:20240330T192712Z
UID:10005482-1712854800-1712862000@rustedrailgolf.com
SUMMARY:Couple's Golf
DESCRIPTION:Shotgun @ 5pm | Couples blind draw\nNon Members : $25 Green Fee (includes cart) + $5 cash entry\nMembers: $5 cash entry\nPOC: Penny Colley | penny@rustedrailgolf.com
URL:https://rustedrailgolf.com/event/couples-golf-17/
LOCATION:Rusted Rail Golf
ATTACH;FMTTYPE=image/png:https://rustedrailgolf.com/wp-content/uploads/2024/03/couples.png
END:VEVENT
BEGIN:VEVENT
DTSTART;TZID=America/Toronto:20240411T190000
DTEND;TZID=America/Toronto:20240411T220000
DTSTAMP:20260421T090342
CREATED:20240228T205704Z
LAST-MODIFIED:20240330T193137Z
UID:10005472-1712862000-1712872800@rustedrailgolf.com
SUMMARY:#ThirstyThursday Feat. Shelby Ballinger!
DESCRIPTION:Whether you’re thirsty for drinks or thirsty for great live music\, we’ve got ya covered! Live Music with Shelby Ballinger from 7p-10p | ALL DAY Happy Hour | $3.50 beers | $5.50 wells
URL:https://rustedrailgolf.com/event/thirstythursday-feat-shelby-ballinger/
LOCATION:Rusted Rail Golf
ATTACH;FMTTYPE=image/jpeg:https://rustedrailgolf.com/wp-content/uploads/2024/02/TT-feat-image.jpg
END:VEVENT
BEGIN:VEVENT
DTSTART;VALUE=DATE:20240415
DTEND;VALUE=DATE:20240416
DTSTAMP:20260421T090342
CREATED:20240330T194823Z
LAST-MODIFIED:20240330T194823Z
UID:10005485-1713139200-1713225599@rustedrailgolf.com
SUMMARY:American Cancer Society - Donna Hunter Golf Tournament
DESCRIPTION:
URL:https://rustedrailgolf.com/event/american-cancer-society-donna-hunter-golf-tournament/
LOCATION:Rusted Rail Golf
END:VEVENT
BEGIN:VEVENT
DTSTART;TZID=America/Toronto:20240418T170000
DTEND;TZID=America/Toronto:20240418T190000
DTSTAMP:20260421T090342
CREATED:20240330T192140Z
LAST-MODIFIED:20240330T192810Z
UID:10005481-1713459600-1713466800@rustedrailgolf.com
SUMMARY:Ladies Golf
DESCRIPTION:Shotgun @ 5pm | 9-Hole Knockout | Participant blind draw\nNon Members: $25 Green Fee (includes cart) + $5 cash entry\nMembers: $5 cash entry\nPOC: Penny Colley | penny@rustedrailgolf.com
URL:https://rustedrailgolf.com/event/ladies-golf-2/
LOCATION:Rusted Rail Golf
ATTACH;FMTTYPE=image/png:https://rustedrailgolf.com/wp-content/uploads/2024/03/Ladies.png
END:VEVENT
BEGIN:VEVENT
DTSTART;TZID=America/Toronto:20240418T190000
DTEND;TZID=America/Toronto:20240418T220000
DTSTAMP:20260421T090342
CREATED:20240228T205704Z
LAST-MODIFIED:20240330T193246Z
UID:10005473-1713466800-1713477600@rustedrailgolf.com
SUMMARY:#ThirstyThursday Feat. Tyler Stokes!
DESCRIPTION:Whether you’re thirsty for drinks or thirsty for great live music\, we’ve got ya covered! Live Music with Tyler Stokes from 7p-10p | ALL DAY Happy Hour | $3.50 beers | $5.50 wells
URL:https://rustedrailgolf.com/event/thirstythursday-feat-tyler-stokes-3/
LOCATION:Rusted Rail Golf
ATTACH;FMTTYPE=image/jpeg:https://rustedrailgolf.com/wp-content/uploads/2024/02/TT-feat-image.jpg
END:VEVENT
BEGIN:VEVENT
DTSTART;TZID=America/Toronto:20240419T080000
DTEND;TZID=America/Toronto:20240420T233000
DTSTAMP:20260421T090342
CREATED:20240330T194255Z
LAST-MODIFIED:20240330T194255Z
UID:10005484-1713513600-1713655800@rustedrailgolf.com
SUMMARY:Two-Day Forney Auction
DESCRIPTION:
URL:https://rustedrailgolf.com/event/two-day-forney-auction/
LOCATION:Rusted Rail Golf
END:VEVENT
BEGIN:VEVENT
DTSTART;TZID=America/Toronto:20240425T170000
DTEND;TZID=America/Toronto:20240425T190000
DTSTAMP:20260421T090342
CREATED:20240330T192430Z
LAST-MODIFIED:20240330T192835Z
UID:10005483-1714064400-1714071600@rustedrailgolf.com
SUMMARY:Couple's Golf
DESCRIPTION:Shotgun @ 5pm | Couples blind draw\nNon Members : $25 Green Fee (includes cart) + $5 cash entry\nMembers: $5 cash entry\nPOC: Penny Colley | penny@rustedrailgolf.com
URL:https://rustedrailgolf.com/event/couples-golf-18/
LOCATION:Rusted Rail Golf
ATTACH;FMTTYPE=image/png:https://rustedrailgolf.com/wp-content/uploads/2024/03/couples.png
END:VEVENT
BEGIN:VEVENT
DTSTART;TZID=America/Toronto:20240425T190000
DTEND;TZID=America/Toronto:20240425T220000
DTSTAMP:20260421T090342
CREATED:20240228T205704Z
LAST-MODIFIED:20240330T193405Z
UID:10005474-1714071600-1714082400@rustedrailgolf.com
SUMMARY:#ThirstyThursday Feat. Brian Lynn Jones!
DESCRIPTION:Whether you’re thirsty for drinks or thirsty for great live music\, we’ve got ya covered! Live Music with Mile Post 595 from 7p-10p | ALL DAY Happy Hour | $3.50 beers | $5.50 wells
URL:https://rustedrailgolf.com/event/thirstythursday-feat-brian-lynn-jones-2/
LOCATION:Rusted Rail Golf
ATTACH;FMTTYPE=image/jpeg:https://rustedrailgolf.com/wp-content/uploads/2024/02/TT-feat-image.jpg
END:VEVENT
END:VCALENDAR